BEGIN:VCALENDAR
VERSION:2.0
PRODID:-//wp-events-plugin.com//7.2.3.1//EN
TZID:Europe/Berlin
X-WR-TIMEZONE:Europe/Berlin
BEGIN:VEVENT
UID:1107@drtv.de
DTSTART;TZID=Europe/Berlin:20181123T000000
DTEND;TZID=Europe/Berlin:20181125T000000
DTSTAMP:20230713T183637Z
URL:https://drtv.de/events/drtv-eroeffnungslehrgang-fuer-die-saison-2018-2
 019/
SUMMARY:DRTV Eröffnungslehrgang für die Saison 2018- 2019
DESCRIPTION:\n\nNach einem recht vielversprechendem ersten BFA-R Trainingsw
 ochenende mit unserem neuen Bundestrainer Steffen Reumann in Kienbaum hier
  ein paar Fotos . Auf dem Gruppenbild sind Kay Maybach\, Lasse Gundlach\, 
 Anika Jürß\, Linn Wandel\, Leo Sommerlade\, Marvin Baumann und Steffen R
 eumann . Im Verdergrund Gioia Mazza\, Laura Unnützer\, Svenja Merita und 
 Lara Maybach zu erkennen (Bild W-M)\n\nInsgesamt war es eine gelungene Ver
 anstaltung mit toller aktiver Beteiligung und sehr abwechslungs-reichen ab
 er auch fordernden Übungen. Ich denke alle waren begeistert\, nicht nur b
 eim Grillen am Abend. Auch für mich neue interessante Erkenntnisse beim "
 Janda-Test" welcher mit einer sehr positiven Beurteilung aller Teilnehmer 
 durch den durchführenden Spezialisten Klaus Peschka bescheinigt wurde.\n\
 nIch denke die 6 Stunden Anreise haben sich voll gelohnt.\n\nReinhard Wei
 ß-Motz\n\n[gallery ids="https://www.drtv.de/wp-content/uploads/2018/06/DS
 C_0143.jpg|\,https://www.drtv.de/wp-content/uploads/2018/06/DSC_0147.jpg|\
 ,https://www.drtv.de/wp-content/uploads/2018/06/DSC_0149.jpg|\,https://www
 .drtv.de/wp-content/uploads/2018/06/DSC_0154.jpg|\,https://www.drtv.de/wp-
 content/uploads/2018/06/DSC_0156.jpg|\,https://www.drtv.de/wp-content/uplo
 ads/2018/06/DSC_0158.jpg|\,https://www.drtv.de/wp-content/uploads/2018/06/
 DSC_0163.jpg|\,https://www.drtv.de/wp-content/uploads/2018/06/DSC_0165.jpg
 |\,https://www.drtv.de/wp-content/uploads/2018/06/DSC_0168.jpg|\,https://w
 ww.drtv.de/wp-content/uploads/2018/06/DSC_0173.jpg|\,https://www.drtv.de/w
 p-content/uploads/2018/06/DSC_0177-1.jpg|\,https://www.drtv.de/wp-content/
 uploads/2018/06/DSC_0186.jpg|\,https://www.drtv.de/wp-content/uploads/2018
 /06/DSC_0196.jpg|\,https://www.drtv.de/wp-content/uploads/2018/06/DSC_0197
 .jpg|\,https://www.drtv.de/wp-content/uploads/2018/06/DSC_0202.jpg|\,https
 ://www.drtv.de/wp-content/uploads/2018/06/DSC_0204.jpg|\,https://www.drtv.
 de/wp-content/uploads/2018/06/DSC_0215.jpg|\,https://www.drtv.de/wp-conten
 t/uploads/2018/06/DSC_0229.jpg|\,https://www.drtv.de/wp-content/uploads/20
 18/06/DSC_0230.jpg|\,https://www.drtv.de/wp-content/uploads/2018/06/DSC_02
 36.jpg|\,https://www.drtv.de/wp-content/uploads/2018/06/DSC_0237.jpg|\,htt
 ps://www.drtv.de/wp-content/uploads/2018/06/IMG_20181123_175119.jpg|"]\n\n
 Kienbaum - Olympisches und Paralympisches Trainingszentrum für Deutschlan
 d e.V.\nPuschkinstraße 2\n15537 Grünheide /OT Kienbaum\n\nTel.: (03 34 3
 4) 76- 0\nFax: (03 34 34) 70- 204\n\nE-Mail: office@kienbaum-sport.de
CATEGORIES:Ergebnis Rasenkraftsport,Ergebnisdatei RDA liegt vor,Termin
 Rasenkraftsport
LOCATION:Kienbaum\, Puschkinstraße 2\, Kienbaum\, Brandenburg\, 15537\, De
 utschland
GEO:52.4637;13.952419999999961
X-APPLE-STRUCTURED-LOCATION;VALUE=URI;X-ADDRESS=Puschkinstraße 2\, Kienbau
 m\, Brandenburg\, 15537\, Deutschland;X-APPLE-RADIUS=100;X-TITLE=Kienbaum:
 geo:52.4637,13.952419999999961
END:VEVENT
BEGIN:VTIMEZONE
TZID:Europe/Berlin
X-LIC-LOCATION:Europe/Berlin
BEGIN:STANDARD
DTSTART:20181028T020000
TZOFFSETFROM:+0200
TZOFFSETTO:+0100
TZNAME:CET
END:STANDARD
END:VTIMEZONE
END:VCALENDAR