BEGIN:VCALENDAR
VERSION:2.0
PRODID:-//wp-events-plugin.com//7.2.3.1//EN
TZID:Europe/Berlin
X-WR-TIMEZONE:Europe/Berlin
BEGIN:VEVENT
UID:1950@drtv.de
DTSTART;TZID=Europe/Berlin:20260503T100000
DTEND;TZID=Europe/Berlin:20260503T180000
DTSTAMP:20260424T070316Z
URL:https://drtv.de/events/eia-benner-werfertag-2026/
SUMMARY:Eia-Benner-Werfertag 2026
DESCRIPTION:\n\n\nAusschreibung\n2026_05_03_Leichlingen_EiaBennerWerfertag\
 n\n\nZeitplan\n2026_05_10_Leichlingen_EiaBennerWerfertag_Zeitplan\n\n&nbsp
 \;\n\nHinweis: Waage 10:00 Uhr bis 10:30 Uhr\n\n\nErgebnisse\n\n\n\n
CATEGORIES:Termin Rasenkraftsport,Termin Rasenkraftsport + Ausschr.
LOCATION:Leichlingen\, Balker Aue\, Leichlingen\, NRW\, 42799\, Sportzentru
 m\, Deutschland
GEO:51.09511;7.016849999999977
X-APPLE-STRUCTURED-LOCATION;VALUE=URI;X-ADDRESS=Balker Aue\, Leichlingen\, 
 NRW\, 42799\, Sportzentrum\, Deutschland;X-APPLE-RADIUS=100;X-TITLE=Leichl
 ingen:geo:51.09511,7.016849999999977
END:VEVENT
BEGIN:VTIMEZONE
TZID:Europe/Berlin
X-LIC-LOCATION:Europe/Berlin
BEGIN:DAYLIGHT
DTSTART:20260329T030000
TZOFFSETFROM:+0100
TZOFFSETTO:+0200
TZNAME:CEST
END:DAYLIGHT
END:VTIMEZONE
END:VCALENDAR