BEGIN:VCALENDAR
VERSION:2.0
PRODID:-//wp-events-plugin.com//7.2.3.1//EN
TZID:Europe/Berlin
X-WR-TIMEZONE:Europe/Berlin
BEGIN:VEVENT
UID:1105@drtv.de
DTSTART;TZID=Europe/Berlin:20180610T000000
DTEND;TZID=Europe/Berlin:20180610T000000
DTSTAMP:20230713T183637Z
URL:https://drtv.de/events/einladungs-werfertag-alle-klassen/
SUMMARY:Einladungs-Werfertag (alle Klassen)
DESCRIPTION:[prettyfilelink size="" src="https://www.drtv.de/wp-content/upl
 oads/2018/05/4.-Werfertag-2018-Phoenix-Mutterstadt-10.06.2018_Ergebnislist
 e-Kurzform.pdf" type="pdf"]4. Werfertag 2018 Phoenix Mutterstadt 10.06.201
 8_Ergebnisliste (Kurzform)[/prettyfilelink]\n\n&nbsp\;\n\n[prettyfilelink 
 size="" src="https://www.drtv.de/wp-content/uploads/2018/05/AUSSCHREIBUNGZ
 EITPLAN.pdf" type="pdf"]AUSSCHREIBUNG+ZEITPLAN[/prettyfilelink]
CATEGORIES:Ergebnis Rasenkraftsport,Ergebnisdatei RDA liegt vor,Termin
 Rasenkraftsport
LOCATION:Kienbaum\, Puschkinstraße 2\, Kienbaum\, Brandenburg\, 15537\, De
 utschland
GEO:52.4637;13.952419999999961
X-APPLE-STRUCTURED-LOCATION;VALUE=URI;X-ADDRESS=Puschkinstraße 2\, Kienbau
 m\, Brandenburg\, 15537\, Deutschland;X-APPLE-RADIUS=100;X-TITLE=Kienbaum:
 geo:52.4637,13.952419999999961
END:VEVENT
BEGIN:VTIMEZONE
TZID:Europe/Berlin
X-LIC-LOCATION:Europe/Berlin
BEGIN:DAYLIGHT
DTSTART:20180325T030000
TZOFFSETFROM:+0100
TZOFFSETTO:+0200
TZNAME:CEST
END:DAYLIGHT
END:VTIMEZONE
END:VCALENDAR