BEGIN:VCALENDAR
VERSION:2.0
PRODID:-//wp-events-plugin.com//7.2.3.1//EN
TZID:Europe/Berlin
X-WR-TIMEZONE:Europe/Berlin
BEGIN:VEVENT
UID:1445@drtv.de
DTSTART;TZID=Europe/Berlin:20201017T000000
DTEND;TZID=Europe/Berlin:20201017T000000
DTSTAMP:20230713T183352Z
URL:https://drtv.de/events/einladungswettkampf-10/
SUMMARY:Einladungswettkampf
DESCRIPTION:[prettyfilelink size="" src="https://www.drtv.de/wp-content/upl
 oads/2020/06/20201017-Hassloch-RKS-Hammerwurfturnier_Ergebnisliste.pdf" ty
 pe="pdf"]20201017 Haßloch RKS Hammerwurfturnier_Ergebnisliste[/prettyfile
 link]\n\n[prettyfilelink size="" src="https://www.drtv.de/wp-content/uploa
 ds/2020/10/20201017_Ausschreibung_Hassloch.pdf" type="pdf"]20201017_Aussch
 reibung_Haßloch[/prettyfilelink]
CATEGORIES:Ergebnis Rasenkraftsport,Ergebnisdatei RDA liegt vor,Termin
 Rasenkraftsport,Termin Rasenkraftsport + Ausschr.
LOCATION:München Manzoschule\, Manzostraße 79\, München\, 80997\, Deutsc
 hland
GEO:48.183978;11.483011
X-APPLE-STRUCTURED-LOCATION;VALUE=URI;X-ADDRESS=Manzostraße 79\, München\
 , 80997\, Deutschland;X-APPLE-RADIUS=100;X-TITLE=München Manzoschule:geo:
 48.183978,11.483011
END:VEVENT
BEGIN:VTIMEZONE
TZID:Europe/Berlin
X-LIC-LOCATION:Europe/Berlin
BEGIN:DAYLIGHT
DTSTART:20200329T030000
TZOFFSETFROM:+0100
TZOFFSETTO:+0200
TZNAME:CEST
END:DAYLIGHT
END:VTIMEZONE
END:VCALENDAR