BEGIN:VCALENDAR
VERSION:2.0
PRODID:-//wp-events-plugin.com//7.2.3.1//EN
TZID:Europe/Berlin
X-WR-TIMEZONE:Europe/Berlin
BEGIN:VEVENT
UID:140@drtv.de
DTSTART;TZID=Europe/Berlin:20121103T100000
DTEND;TZID=Europe/Berlin:20121103T150000
DTSTAMP:20230713T184208Z
URL:https://drtv.de/events/fachtagung-rks-2012/
SUMMARY:Fachtagung RKS 2012
DESCRIPTION:[prettyfilelink src="https://www.drtv.de/wp-content/uploads/201
 2/09/Einberufung-Fachtagung-RKS-2012-neu.pdf" type="pdf"]Einberufung Facht
 agung RKS 2012 neu[/prettyfilelink]
CATEGORIES:Termin Rasenkraftsport
LOCATION:Frankfurt\, Hahnstrasse\, Frankfurt-Niederrad\, 60528\, Werferleis
 tungszentrum\, Deutschland
GEO:50.08088499999999;8.633579999999938
X-APPLE-STRUCTURED-LOCATION;VALUE=URI;X-ADDRESS=Hahnstrasse\, Frankfurt-Nie
 derrad\, 60528\, Werferleistungszentrum\, Deutschland;X-APPLE-RADIUS=100;X
 -TITLE=Frankfurt:geo:50.08088499999999,8.633579999999938
END:VEVENT
BEGIN:VTIMEZONE
TZID:Europe/Berlin
X-LIC-LOCATION:Europe/Berlin
BEGIN:STANDARD
DTSTART:20121028T020000
TZOFFSETFROM:+0200
TZOFFSETTO:+0100
TZNAME:CET
END:STANDARD
END:VTIMEZONE
END:VCALENDAR