BEGIN:VCALENDAR
VERSION:2.0
PRODID:-//wp-events-plugin.com//7.2.3.1//EN
TZID:Europe/Berlin
X-WR-TIMEZONE:Europe/Berlin
BEGIN:VEVENT
UID:468@drtv.de
DTSTART;TZID=Europe/Berlin:20141005T100000
DTEND;TZID=Europe/Berlin:20141005T100000
DTSTAMP:20230713T184015Z
URL:https://drtv.de/events/fachtagung-tauziehen-3/
SUMMARY:Fachtagung Tauziehen
DESCRIPTION:[prettyfilelink size="" src="https://www.drtv.de/wp-content/upl
 oads/2014/06/Einladung_Fachtagung-2014-TZ.pdf" type="pdf"]Einladung_Fachta
 gung-2014 TZ[/prettyfilelink]\n\n&nbsp\;
CATEGORIES:Termin Tauziehen
LOCATION:Laudenbach\, Dr. Werner Freyberg Str.5\, Laudenbach\, Nordbaden\, 
 69514\, Deutschland
GEO:49.61138;8.640149999999948
X-APPLE-STRUCTURED-LOCATION;VALUE=URI;X-ADDRESS=Dr. Werner Freyberg Str.5\,
  Laudenbach\, Nordbaden\, 69514\, Deutschland;X-APPLE-RADIUS=100;X-TITLE=L
 audenbach:geo:49.61138,8.640149999999948
END:VEVENT
BEGIN:VTIMEZONE
TZID:Europe/Berlin
X-LIC-LOCATION:Europe/Berlin
BEGIN:DAYLIGHT
DTSTART:20140330T030000
TZOFFSETFROM:+0100
TZOFFSETTO:+0200
TZNAME:CEST
END:DAYLIGHT
END:VTIMEZONE
END:VCALENDAR