BEGIN:VCALENDAR
VERSION:2.0
PRODID:-//wp-events-plugin.com//7.2.3.1//EN
TZID:Europe/Berlin
X-WR-TIMEZONE:Europe/Berlin
BEGIN:VEVENT
UID:812@drtv.de
DTSTART;TZID=Europe/Berlin;VALUE=DATE:20161008
DTEND;TZID=Europe/Berlin;VALUE=DATE:20161009
DTSTAMP:20230713T183827Z
URL:https://drtv.de/events/fachtagung-tauziehen-4/
SUMMARY:Fachtagung Tauziehen
DESCRIPTION:Einladung zu Fachtagung Tauziehen\n\nVerehrte Tauziehfreunde\,\
 ngemäß § 4 der Geschäftsordnung für die Fachgebiete lade ich hiermit 
 die stimmberechtigten\nLandesverbände\, die Bundesligavereine (der Saison
  2016)\, die gewählten Mitglieder des\nBundesfachausschusses Tauziehen un
 d des DRTV Präsidiums und das Ehrenmitglied des\nFachgebietes ein.\nAlle 
 Kampfrichter und Freunde des Tauziehsportes sowie alle interessierten Mitg
 liedsvereine sind\nebenfalls herzlich eingeladen.\nFachtagung Tauziehen am
  08. Oktober 2016\nTagungsort: 68799 Reilingen\nTagungsstätte: „Restaur
 ant Kurpfalzstube“ Siemensstr. 5\nTagungsbeginn: 15:00 Uhr\n\n[prettyfil
 elink size="" src="https://www.drtv.de/wp-content/uploads/2012/04/Einladun
 gFT20161008.pdf" type="pdf"]EinladungFT20161008[/prettyfilelink]
CATEGORIES:Termin Tauziehen
END:VEVENT
BEGIN:VTIMEZONE
TZID:Europe/Berlin
X-LIC-LOCATION:Europe/Berlin
BEGIN:DAYLIGHT
DTSTART:20160327T030000
TZOFFSETFROM:+0100
TZOFFSETTO:+0200
TZNAME:CEST
END:DAYLIGHT
END:VTIMEZONE
END:VCALENDAR