BEGIN:VCALENDAR
VERSION:2.0
PRODID:-//wp-events-plugin.com//7.2.3.1//EN
TZID:Europe/Berlin
X-WR-TIMEZONE:Europe/Berlin
BEGIN:VEVENT
UID:1775@drtv.de
DTSTART;TZID=Europe/Berlin:20240724T000000
DTEND;TZID=Europe/Berlin:20240724T000000
DTSTAMP:20240728T145855Z
URL:https://drtv.de/events/feriensportfest-2/
SUMMARY:Feriensportfest
DESCRIPTION:﻿Ausschreibung:\n2024_07_24_Langenbrand_Feriensportfest\nErge
 bnisse\n2024_07_24_Feriensportfest-Dreikampf_Langenbrand(kurz)\n\n2024_07_
 24_Feriensportfest-Hammer_Langenbrand
CATEGORIES:Termin Rasenkraftsport,Termin Rasenkraftsport + Ausschr.
LOCATION:Langenbrand\, Bahnhofstrasse 9\, Forbach-Langenbrand\, 76596\, Spo
 rtplatz Langenbrand\, Deutschland
GEO:48.703715;8.35600880000004
X-APPLE-STRUCTURED-LOCATION;VALUE=URI;X-ADDRESS=Bahnhofstrasse 9\, Forbach-
 Langenbrand\, 76596\, Sportplatz Langenbrand\, Deutschland;X-APPLE-RADIUS=
 100;X-TITLE=Langenbrand:geo:48.703715,8.35600880000004
END:VEVENT
BEGIN:VTIMEZONE
TZID:Europe/Berlin
X-LIC-LOCATION:Europe/Berlin
BEGIN:DAYLIGHT
DTSTART:20240331T030000
TZOFFSETFROM:+0100
TZOFFSETTO:+0200
TZNAME:CEST
END:DAYLIGHT
END:VTIMEZONE
END:VCALENDAR