BEGIN:VCALENDAR
VERSION:2.0
PRODID:-//wp-events-plugin.com//7.2.3.1//EN
TZID:Europe/Berlin
X-WR-TIMEZONE:Europe/Berlin
BEGIN:VEVENT
UID:1104@drtv.de
DTSTART;TZID=Europe/Berlin:20180725T000000
DTEND;TZID=Europe/Berlin:20180725T000000
DTSTAMP:20230713T183637Z
URL:https://drtv.de/events/feriensportfest-2018/
SUMMARY:Feriensportfest 2018
DESCRIPTION:[prettyfilelink size="" src="https://www.drtv.de/wp-content/upl
 oads/2018/05/Feriensportfest_Ergebnisliste-Kurzform.pdf" type="pdf"]Ferien
 sportfest_Ergebnisliste (Kurzform)[/prettyfilelink]\n\n[prettyfilelink siz
 e="" src="https://www.drtv.de/wp-content/uploads/2018/05/Feriensportfest-2
 018.pdf" type="pdf"]Feriensportfest -2018[/prettyfilelink]
CATEGORIES:Ergebnis Rasenkraftsport,Ergebnisdatei RDA liegt vor,Termin
 Rasenkraftsport
LOCATION:Langenbrand\, Bahnhofstrasse 9\, Forbach-Langenbrand\, 76596\, Spo
 rtplatz Langenbrand\, Deutschland
GEO:48.703715;8.35600880000004
X-APPLE-STRUCTURED-LOCATION;VALUE=URI;X-ADDRESS=Bahnhofstrasse 9\, Forbach-
 Langenbrand\, 76596\, Sportplatz Langenbrand\, Deutschland;X-APPLE-RADIUS=
 100;X-TITLE=Langenbrand:geo:48.703715,8.35600880000004
END:VEVENT
BEGIN:VTIMEZONE
TZID:Europe/Berlin
X-LIC-LOCATION:Europe/Berlin
BEGIN:DAYLIGHT
DTSTART:20180325T030000
TZOFFSETFROM:+0100
TZOFFSETTO:+0200
TZNAME:CEST
END:DAYLIGHT
END:VTIMEZONE
END:VCALENDAR