BEGIN:VCALENDAR
VERSION:2.0
PRODID:-//wp-events-plugin.com//7.2.3.1//EN
TZID:Europe/Berlin
X-WR-TIMEZONE:Europe/Berlin
BEGIN:VEVENT
UID:51@drtv.de
DTSTART;TZID=Europe/Berlin:20120526T140000
DTEND;TZID=Europe/Berlin:20120526T140000
DTSTAMP:20230713T184244Z
URL:https://drtv.de/events/frauenliga-schweiz-2/
SUMMARY:Frauenliga Schweiz
DESCRIPTION:[prettyfilelink src="https://www.drtv.de/wp-content/uploads/201
 2/04/SRTV_Frauen_2012_2WK.pdf" type="pdf"]Ergebnis 2. WK[/prettyfilelink]
CATEGORIES:Ergebnis Tauziehen,Termin Tauziehen
LOCATION:Stans/Schweiz\, Eichli\, Stans\, 6370\, Schweiz
GEO:46.9653329;8.363392200000021
X-APPLE-STRUCTURED-LOCATION;VALUE=URI;X-ADDRESS=Eichli\, Stans\, 6370\, Sch
 weiz;X-APPLE-RADIUS=100;X-TITLE=Stans/Schweiz:geo:46.9653329,8.36339220000
 0021
END:VEVENT
BEGIN:VTIMEZONE
TZID:Europe/Berlin
X-LIC-LOCATION:Europe/Berlin
BEGIN:DAYLIGHT
DTSTART:20120325T030000
TZOFFSETFROM:+0100
TZOFFSETTO:+0200
TZNAME:CEST
END:DAYLIGHT
END:VTIMEZONE
END:VCALENDAR