BEGIN:VCALENDAR
VERSION:2.0
PRODID:-//wp-events-plugin.com//7.2.3.1//EN
TZID:Europe/Berlin
X-WR-TIMEZONE:Europe/Berlin
BEGIN:VEVENT
UID:1279@drtv.de
DTSTART;TZID=Europe/Berlin:20190817T000000
DTEND;TZID=Europe/Berlin:20190817T000000
DTSTAMP:20230713T183506Z
URL:https://drtv.de/events/gts-drinks-hammerwurf-cup/
SUMMARY:GT&S Drinks Hammerwurf Cup
DESCRIPTION:[prettyfilelink size="" src="https://www.drtv.de/wp-content/upl
 oads/2019/07/Haßloch-20190817-_Ergebnisliste-.pdf" type="pdf"]Haßloch 20
 190817 _Ergebnisliste[/prettyfilelink]\n\n[prettyfilelink size="" src="htt
 ps://www.drtv.de/wp-content/uploads/2019/07/Ausschreibung-Haßloch-1708201
 9.pdf" type="pdf"]Ausschreibung-Haßloch-17082019[/prettyfilelink]
CATEGORIES:Ergebnis Rasenkraftsport,Ergebnisdatei RDA liegt vor,Termin
 Rasenkraftsport,Termin Rasenkraftsport + Ausschr.
LOCATION:Haßloch Stadion an der Kurpfalzschule\, Am Schachtelgraben 15\, H
 aßloch\, 67454\, Deutschland
GEO:49.36974000000001;8.262749999999983
X-APPLE-STRUCTURED-LOCATION;VALUE=URI;X-ADDRESS=Am Schachtelgraben 15\, Ha
 ßloch\, 67454\, Deutschland;X-APPLE-RADIUS=100;X-TITLE=Haßloch Stadion a
 n der Kurpfalzschule:geo:49.36974000000001,8.262749999999983
END:VEVENT
BEGIN:VTIMEZONE
TZID:Europe/Berlin
X-LIC-LOCATION:Europe/Berlin
BEGIN:DAYLIGHT
DTSTART:20190331T030000
TZOFFSETFROM:+0100
TZOFFSETTO:+0200
TZNAME:CEST
END:DAYLIGHT
END:VTIMEZONE
END:VCALENDAR