BEGIN:VCALENDAR
VERSION:2.0
PRODID:-//wp-events-plugin.com//7.2.3.1//EN
TZID:Europe/Berlin
X-WR-TIMEZONE:Europe/Berlin
BEGIN:VEVENT
UID:1087@drtv.de
DTSTART;TZID=Europe/Berlin:20180603T000000
DTEND;TZID=Europe/Berlin:20180603T000000
DTSTAMP:20230713T183641Z
URL:https://drtv.de/events/hammerwerfen-mit-musk-2018/
SUMMARY:Hammerwerfen mit Musk  2018
DESCRIPTION:[prettyfilelink size="" src="https://www.drtv.de/wp-content/upl
 oads/2018/06/Langenbrand-03-06-2018_Ergebnisliste.pdf" type="pdf"]Langenbr
 and-03-06-2018_RKS-Ergebnisliste[/prettyfilelink]\n\n[prettyfilelink size=
 "" src="https://www.drtv.de/wp-content/uploads/2018/03/Werfen_mit-Musik_La
 ngenbrand_2018.pdf" type="pdf"]Werfen_mit -Musik_Langenbrand_2018[/prettyf
 ilelink]\n\n++++++++++++++++++++++++++++++++++++++++++++++++++++++\n\n[pre
 ttyfilelink size="" src="https://www.drtv.de/wp-content/uploads/2018/03/We
 rfen-mit-Musik-2018-Zeitplan-und-Teilnehmerliste.pdf" type="pdf"]Werfen mi
 t Musik 2018 Zeitplan und Teilnehmerliste[/prettyfilelink]\n\n[prettyfilel
 ink size="" src="https://www.drtv.de/wp-content/uploads/2018/03/Werfen-mit
 -Musik-Teilnehmer-2018-1.pdf" type="pdf"]Werfen mit Musik Teilnehmer 2018-
 1[/prettyfilelink]\n\n[prettyfilelink size="" src="https://www.drtv.de/wp-
 content/uploads/2018/03/C-U-P-Rekorde-Stand-2018.pdf" type="pdf"]C U P Rek
 orde Stand 2018[/prettyfilelink]\n\n++++++++++++++++++++++++++++++++++++++
 +++++++++++\n\n[prettyfilelink size="" src="https://www.drtv.de/wp-content
 /uploads/2018/03/Ausschreibung-mit-Wiegen-2018-Werfen-mit-Musik.pdf" type=
 "pdf"]Ausschreibung mit Wiegen 2018 Werfen mit Musik[/prettyfilelink]\n\n&
 nbsp\;\n\n[prettyfilelink size="" src="https://www.drtv.de/wp-content/uplo
 ads/2018/03/20180324131031.pdf" type="pdf"]Ausschreibung HW+M 2018[/pretty
 filelink]\n\n[prettyfilelink size="" src="https://www.drtv.de/wp-content/u
 ploads/2018/03/20180324131041.pdf" type="pdf"]Plakat HW+M 2018[/prettyfile
 link]
CATEGORIES:Ergebnis Rasenkraftsport,Termin Leichtathletik,Termin
 Rasenkraftsport
LOCATION:Langenbrand\, Bahnhofstrasse 9\, Forbach-Langenbrand\, 76596\, Spo
 rtplatz Langenbrand\, Deutschland
GEO:48.703715;8.35600880000004
X-APPLE-STRUCTURED-LOCATION;VALUE=URI;X-ADDRESS=Bahnhofstrasse 9\, Forbach-
 Langenbrand\, 76596\, Sportplatz Langenbrand\, Deutschland;X-APPLE-RADIUS=
 100;X-TITLE=Langenbrand:geo:48.703715,8.35600880000004
END:VEVENT
BEGIN:VTIMEZONE
TZID:Europe/Berlin
X-LIC-LOCATION:Europe/Berlin
BEGIN:DAYLIGHT
DTSTART:20180325T030000
TZOFFSETFROM:+0100
TZOFFSETTO:+0200
TZNAME:CEST
END:DAYLIGHT
END:VTIMEZONE
END:VCALENDAR