BEGIN:VCALENDAR
VERSION:2.0
PRODID:-//wp-events-plugin.com//7.2.3.1//EN
TZID:Europe/Berlin
X-WR-TIMEZONE:Europe/Berlin
BEGIN:VEVENT
UID:507@drtv.de
DTSTART;TZID=Europe/Berlin;VALUE=DATE:20140611
DTEND;TZID=Europe/Berlin;VALUE=DATE:20140612
DTSTAMP:20230713T184004Z
URL:https://drtv.de/events/hammerwirbel/
SUMMARY:Hammerwirbel
DESCRIPTION:[prettyfilelink size="" src="https://www.drtv.de/wp-content/upl
 oads/2014/10/Ergebnisliste-sindelfingen-110614.pdf" type="pdf"]Ergebnislis
 te sindelfingen 110614[/prettyfilelink]
CATEGORIES:Ergebnis Rasenkraftsport,Termin Rasenkraftsport
LOCATION:Sindelfingen\, Werferanlage am Floschenstadion - Rosenstrasse 12\,
  Sindelfingen\, Württemberg\, 71063\, Deutschland
GEO:48.7058596;8.986750099999994
X-APPLE-STRUCTURED-LOCATION;VALUE=URI;X-ADDRESS=Werferanlage am Floschensta
 dion - Rosenstrasse 12\, Sindelfingen\, Württemberg\, 71063\, Deutschland
 ;X-APPLE-RADIUS=100;X-TITLE=Sindelfingen:geo:48.7058596,8.986750099999994
END:VEVENT
BEGIN:VTIMEZONE
TZID:Europe/Berlin
X-LIC-LOCATION:Europe/Berlin
BEGIN:DAYLIGHT
DTSTART:20140330T030000
TZOFFSETFROM:+0100
TZOFFSETTO:+0200
TZNAME:CEST
END:DAYLIGHT
END:VTIMEZONE
END:VCALENDAR