BEGIN:VCALENDAR
VERSION:2.0
PRODID:-//wp-events-plugin.com//7.2.3.1//EN
TZID:Europe/Berlin
X-WR-TIMEZONE:Europe/Berlin
BEGIN:VEVENT
UID:1778@drtv.de
DTSTART;TZID=Europe/Berlin:20240802T000000
DTEND;TZID=Europe/Berlin:20240802T000000
DTSTAMP:20240809T140020Z
URL:https://drtv.de/events/hammerwurf-und-gewichtwurfturnier/
SUMMARY:Hammerwurf- und Gewichtwurfturnier
DESCRIPTION:﻿Ausschreibung:\n2024_08_02_Eppstein_RKS-Hammer-und-Gewichtwu
 rfturnier\n\nErgebnisliste\n2024_08_02_Werferabend_Eppstein
CATEGORIES:Termin Rasenkraftsport,Termin Rasenkraftsport + Ausschr.
LOCATION:Eppstein\, Auf dem Wingertsberg 2.1\, Eppstein/Taunus\, Hessen\, 6
 5817\, Deutschland
GEO:50.14403000000001;8.39074000000005
X-APPLE-STRUCTURED-LOCATION;VALUE=URI;X-ADDRESS=Auf dem Wingertsberg 2.1\, 
 Eppstein/Taunus\, Hessen\, 65817\, Deutschland;X-APPLE-RADIUS=100;X-TITLE=
 Eppstein:geo:50.14403000000001,8.39074000000005
END:VEVENT
BEGIN:VTIMEZONE
TZID:Europe/Berlin
X-LIC-LOCATION:Europe/Berlin
BEGIN:DAYLIGHT
DTSTART:20240331T030000
TZOFFSETFROM:+0100
TZOFFSETTO:+0200
TZNAME:CEST
END:DAYLIGHT
END:VTIMEZONE
END:VCALENDAR