BEGIN:VCALENDAR
VERSION:2.0
PRODID:-//wp-events-plugin.com//7.2.3.1//EN
TZID:Europe/Berlin
X-WR-TIMEZONE:Europe/Berlin
BEGIN:VEVENT
UID:559@drtv.de
DTSTART;TZID=Europe/Berlin:20150627T100000
DTEND;TZID=Europe/Berlin:20150627T160000
DTSTAMP:20230713T183941Z
URL:https://drtv.de/events/hammerwurfmeeting-2/
SUMMARY:Hammerwurfmeeting
DESCRIPTION:[prettyfilelink size="" src="https://www.drtv.de/wp-content/upl
 oads/2015/01/Hammerwurfmeeting-27.06.2015_Ergebnisliste.htm" type="html"]E
 rgebnisse_Hammerwurfmeeting 27.06.2015[/prettyfilelink][prettyfilelink siz
 e="" src="https://www.drtv.de/wp-content/uploads/2015/01/Ausschreibung_Ham
 merwurfmeeting-27.06.2015.pdf" type="pdf"]Ausschreibung_Hammerwurfmeeting 
 27.06.2015[/prettyfilelink]\n\n&nbsp\;
CATEGORIES:Ergebnis Rasenkraftsport,Termin Rasenkraftsport
LOCATION:Bürstadt\, Wasserwerkstraße 4\, Bürstadt\, 68642\, Deutschland
GEO:49.643907;8.473287000000027
X-APPLE-STRUCTURED-LOCATION;VALUE=URI;X-ADDRESS=Wasserwerkstraße 4\, Bürs
 tadt\, 68642\, Deutschland;X-APPLE-RADIUS=100;X-TITLE=Bürstadt:geo:49.643
 907,8.473287000000027
END:VEVENT
BEGIN:VTIMEZONE
TZID:Europe/Berlin
X-LIC-LOCATION:Europe/Berlin
BEGIN:DAYLIGHT
DTSTART:20150329T030000
TZOFFSETFROM:+0100
TZOFFSETTO:+0200
TZNAME:CEST
END:DAYLIGHT
END:VTIMEZONE
END:VCALENDAR