BEGIN:VCALENDAR
VERSION:2.0
PRODID:-//wp-events-plugin.com//7.2.3.1//EN
TZID:Europe/Berlin
X-WR-TIMEZONE:Europe/Berlin
BEGIN:VEVENT
UID:549@drtv.de
DTSTART;TZID=Europe/Berlin:20150104T120000
DTEND;TZID=Europe/Berlin:20150104T120000
DTSTAMP:20230713T183944Z
URL:https://drtv.de/events/heilig-drei-konigs-werfen-des-leichlinger-tv/
SUMMARY:Heilig-Drei-Königs-werfen des Leichlinger TV
DESCRIPTION:[prettyfilelink size="" src="https://www.drtv.de/wp-content/upl
 oads/2014/12/Heilig-Drei-Königswerfen-4.1.15neu_Ergebnisliste.html" type=
 "html"]Heilig-Drei-Königswerfen Ergebnisse neu[/prettyfilelink]\n\n[prett
 yfilelink size="" src="https://www.drtv.de/wp-content/uploads/2014/12/Heil
 ig-Drei-Königswerfen.doc" type="doc"]Heilig-Drei-Königswerfen[/prettyfil
 elink]\n\n&nbsp\;
CATEGORIES:Ergebnis Rasenkraftsport,Ergebnisdatei RDA liegt vor,Termin
 Rasenkraftsport
LOCATION:Leichlingen\, Balker Aue\, Leichlingen\, NRW\, 42799\, Sportzentru
 m\, Deutschland
GEO:51.09511;7.016849999999977
X-APPLE-STRUCTURED-LOCATION;VALUE=URI;X-ADDRESS=Balker Aue\, Leichlingen\, 
 NRW\, 42799\, Sportzentrum\, Deutschland;X-APPLE-RADIUS=100;X-TITLE=Leichl
 ingen:geo:51.09511,7.016849999999977
END:VEVENT
BEGIN:VTIMEZONE
TZID:Europe/Berlin
X-LIC-LOCATION:Europe/Berlin
BEGIN:STANDARD
DTSTART:20141026T020000
TZOFFSETFROM:+0200
TZOFFSETTO:+0100
TZNAME:CET
END:STANDARD
END:VTIMEZONE
END:VCALENDAR