BEGIN:VCALENDAR
VERSION:2.0
PRODID:-//wp-events-plugin.com//7.2.3.1//EN
TZID:Europe/Berlin
X-WR-TIMEZONE:Europe/Berlin
BEGIN:VEVENT
UID:1240@drtv.de
DTSTART;TZID=Europe/Berlin:20190505T000000
DTEND;TZID=Europe/Berlin:20190505T000000
DTSTAMP:20230713T183554Z
URL:https://drtv.de/events/hessische-meisterschaften-der-schueler-innen-a-
 b-cjugend-b-weibl-maennl-jugend-a-weibl-maennl/
SUMMARY:Hessische Meisterschaften der Schüler/innen A/B/C\,Jugend B weibl.
  / männl. \; Jugend A weibl. / männl.
DESCRIPTION:[prettyfilelink size="" src="https://www.drtv.de/wp-content/upl
 oads/2019/04/2019-05-05-HM-Nachwuchs_Ergebnisliste.pdf" type="pdf"]2019-05
 -05 HM Nachwuchs_Ergebnisliste[/prettyfilelink]\n\n[prettyfilelink size=""
  src="https://www.drtv.de/wp-content/uploads/2019/03/2019-05-05-HM-Nachwuc
 hs_Teilnehmerliste.pdf" type="pdf"]2019-05-05 HM Nachwuchs_Teilnehmerliste
 [/prettyfilelink]\n\n&nbsp\;\n\n[prettyfilelink size="" src="https://www.d
 rtv.de/wp-content/uploads/2019/04/A-A-A-A-Aussschreibung_19-Hess._Jugend-S
 chüler.pdf" type="pdf"]A A A A Aussschreibung_19 Hess._Jugend-Schüler[/p
 rettyfilelink]
CATEGORIES:Ergebnis Rasenkraftsport,Ergebnisdatei RDA liegt vor,Termin
 Rasenkraftsport,Termin Rasenkraftsport + Ausschr.
LOCATION:Fränkisch-Crumbach\, Jahnstrasse 16\, Fränkisch-Crumbach\, 64407
 \, Deutschland
GEO:49.74528;8.86153999999999
X-APPLE-STRUCTURED-LOCATION;VALUE=URI;X-ADDRESS=Jahnstrasse 16\, Fränkisch
 -Crumbach\, 64407\, Deutschland;X-APPLE-RADIUS=100;X-TITLE=Fränkisch-Crum
 bach:geo:49.74528,8.86153999999999
END:VEVENT
BEGIN:VTIMEZONE
TZID:Europe/Berlin
X-LIC-LOCATION:Europe/Berlin
BEGIN:DAYLIGHT
DTSTART:20190331T030000
TZOFFSETFROM:+0100
TZOFFSETTO:+0200
TZNAME:CEST
END:DAYLIGHT
END:VTIMEZONE
END:VCALENDAR