BEGIN:VCALENDAR
VERSION:2.0
PRODID:-//wp-events-plugin.com//7.2.3.1//EN
TZID:Europe/Berlin
X-WR-TIMEZONE:Europe/Berlin
BEGIN:VEVENT
UID:469@drtv.de
DTSTART;TZID=Europe/Berlin;VALUE=DATE:20140628
DTEND;TZID=Europe/Berlin;VALUE=DATE:20140629
DTSTAMP:20230713T184014Z
URL:https://drtv.de/events/hessische-rks-meisterschaft/
SUMMARY:Hessische RKS-Meisterschaft
DESCRIPTION:&nbsp\;\n\n&lt\; A HM JuniorenInnen M+F SeniorenInnen 2014_Erg
 ebnisliste &gt\;
CATEGORIES:Ergebnis Rasenkraftsport,Ergebnisdatei RDA liegt vor,Termin
 Rasenkraftsport
LOCATION:Neu-Isenburg\, Kurt-Schumacher Straße 11\, Neu-Isenburg\, 63263\,
  Sportpark Eingang Kurt Schumacher Str. 11\, Deutschland
GEO:50.0512587;8.669543200000021
X-APPLE-STRUCTURED-LOCATION;VALUE=URI;X-ADDRESS=Kurt-Schumacher Straße 11\
 , Neu-Isenburg\, 63263\, Sportpark Eingang Kurt Schumacher Str. 11\, Deuts
 chland;X-APPLE-RADIUS=100;X-TITLE=Neu-Isenburg:geo:50.0512587,8.6695432000
 00021
END:VEVENT
BEGIN:VTIMEZONE
TZID:Europe/Berlin
X-LIC-LOCATION:Europe/Berlin
BEGIN:DAYLIGHT
DTSTART:20140330T030000
TZOFFSETFROM:+0100
TZOFFSETTO:+0200
TZNAME:CEST
END:DAYLIGHT
END:VTIMEZONE
END:VCALENDAR