BEGIN:VCALENDAR
VERSION:2.0
PRODID:-//wp-events-plugin.com//7.2.3.1//EN
TZID:Europe/Berlin
X-WR-TIMEZONE:Europe/Berlin
BEGIN:VEVENT
UID:359@drtv.de
DTSTART;TZID=Europe/Berlin;VALUE=DATE:20140315
DTEND;TZID=Europe/Berlin;VALUE=DATE:20140316
DTSTAMP:20230713T184059Z
URL:https://drtv.de/events/hessischen-hallenmeisterschaften-im-steinstosen
 -2/
SUMMARY:Hessischen Hallenmeisterschaften im Steinstoßen
DESCRIPTION:[button url="https://www.drtv.de/wp-content/uploads/2013/12/HM-
 Hallensteinstoßen-2014-Weiblich_Ergebnisliste.htm" style="white" size="sm
 all"] Ergebnisse weiblich [/button][button url="https://www.drtv.de/wp-con
 tent/uploads/2013/12/HM-Hallensteinstoßen-2014-Männlich_Ergebnisliste.ht
 m" style="white" size="small"] Ergebnisse männlich [/button][prettyfileli
 nk src="https://www.drtv.de/wp-content/uploads/2013/12/Steinstoßen-Halle2
 014.pdf" type="pdf"]Steinstoßen Halle2014[/prettyfilelink][prettyfilelink
  src="https://www.drtv.de/wp-content/uploads/2013/12/HM-Hallensteinstoßen
 -2014-Männlich_Teilnehmerliste.htm" type="htm"]Teilnehmer männlich[/pret
 tyfilelink][prettyfilelink src="https://www.drtv.de/wp-content/uploads/201
 3/12/HM-Hallensteinstoßen-2014-Weiblich_Teilnehmerliste.htm" type="htm"]T
 eilnehmer weiblich[/prettyfilelink]
CATEGORIES:Ergebnis Rasenkraftsport,Ergebnisdatei RDA liegt vor,Termin
 Rasenkraftsport
LOCATION:Frankfurt-Kalbach\, Am Martinszehnten 2\, Kalbach\, 60437\, Halle 
 im Sportzentrum Kalbach\, Deutschland
GEO:50.186281;8.652148500000066
X-APPLE-STRUCTURED-LOCATION;VALUE=URI;X-ADDRESS=Am Martinszehnten 2\, Kalba
 ch\, 60437\, Halle im Sportzentrum Kalbach\, Deutschland;X-APPLE-RADIUS=10
 0;X-TITLE=Frankfurt-Kalbach:geo:50.186281,8.652148500000066
END:VEVENT
BEGIN:VTIMEZONE
TZID:Europe/Berlin
X-LIC-LOCATION:Europe/Berlin
BEGIN:STANDARD
DTSTART:20131027T020000
TZOFFSETFROM:+0200
TZOFFSETTO:+0100
TZNAME:CET
END:STANDARD
END:VTIMEZONE
END:VCALENDAR