BEGIN:VCALENDAR
VERSION:2.0
PRODID:-//wp-events-plugin.com//7.2.3.1//EN
TZID:Europe/Berlin
X-WR-TIMEZONE:Europe/Berlin
BEGIN:VEVENT
UID:1083@drtv.de
DTSTART;TZID=Europe/Berlin:20180505T000000
DTEND;TZID=Europe/Berlin:20180505T000000
DTSTAMP:20230713T183641Z
URL:https://drtv.de/events/hessischen-meisterschaften-der-schueler-und-jug
 end/
SUMMARY:Hessischen Meisterschaften der Schüler und Jugend
DESCRIPTION:[prettyfilelink size="" src="https://www.drtv.de/wp-content/upl
 oads/2018/03/HM-2018-Nachwuchs-Fürth_Ergebnisliste.pdf" type="pdf"]HM 201
 8 Nachwuchs Fürth_Ergebnisliste[/prettyfilelink]\n\n[prettyfilelink size=
 "" src="https://www.drtv.de/wp-content/uploads/2018/03/HM-2018-Nachwuchs-F
 ürth_Teilnehmerliste.pdf" type="pdf"]HM 2018 Nachwuchs Fürth_Teilnehmerl
 iste[/prettyfilelink]\n\n[prettyfilelink size="" src="https://www.drtv.de/
 wp-content/uploads/2018/03/Aussschreibung_Hess._Jugend-Schüler-2018.pdf" 
 type="pdf"]Aussschreibung_Hess._Jugend-Schüler 2018[/prettyfilelink]
CATEGORIES:Ergebnis Rasenkraftsport,Ergebnisdatei RDA liegt vor,Termin
 Rasenkraftsport,Termin Rasenkraftsport + Ausschr.
LOCATION:Fürth/Odw.\, Im Tiefertswinkel 29\, Sportanlage hinter dem Schwim
 mbad\, Fürth\, Hessen\, 64658\, Deutschland
GEO:49.6500084;8.783754300000055
X-APPLE-STRUCTURED-LOCATION;VALUE=URI;X-ADDRESS=Im Tiefertswinkel 29\, Spor
 tanlage hinter dem Schwimmbad\, Fürth\, Hessen\, 64658\, Deutschland;X-AP
 PLE-RADIUS=100;X-TITLE=Fürth/Odw.:geo:49.6500084,8.783754300000055
END:VEVENT
BEGIN:VTIMEZONE
TZID:Europe/Berlin
X-LIC-LOCATION:Europe/Berlin
BEGIN:DAYLIGHT
DTSTART:20180325T030000
TZOFFSETFROM:+0100
TZOFFSETTO:+0200
TZNAME:CEST
END:DAYLIGHT
END:VTIMEZONE
END:VCALENDAR