BEGIN:VCALENDAR
VERSION:2.0
PRODID:-//wp-events-plugin.com//7.2.3.1//EN
TZID:Europe/Berlin
X-WR-TIMEZONE:Europe/Berlin
BEGIN:VEVENT
UID:290@drtv.de
DTSTART;TZID=Europe/Berlin;VALUE=DATE:20130914
DTEND;TZID=Europe/Berlin;VALUE=DATE:20130915
DTSTAMP:20230713T184116Z
URL:https://drtv.de/events/hessischen-meisterschaften-der-schulerinnen-a-b
 -c-jugend-b-jugend-a/
SUMMARY:Hessischen Meisterschaften der Schüler/innen A / B / C Jugend B\, 
 Jugend A
DESCRIPTION:[prettyfilelink src="https://www.drtv.de/wp-content/uploads/201
 3/05/HM-Nachwuchs-2013-Fürth_Ergebnisliste.htm" type="html"]HM Nachwuchs 
 2013 Fürth_Ergebnisliste[/prettyfilelink][prettyfilelink src="https://www
 .drtv.de/wp-content/uploads/2013/05/Aussschreibung_Hess._Jugend-Schüler.d
 oc" type="doc"]Aussschreibung_Hess._Jugend-Schüler[/prettyfilelink]\n\n 
      
CATEGORIES:Ergebnis Rasenkraftsport,Termin Rasenkraftsport
LOCATION:Fürth/Odw.\, Im Tiefertswinkel 29\, Sportanlage hinter dem Schwim
 mbad\, Fürth\, Hessen\, 64658\, Deutschland
GEO:49.6500084;8.783754300000055
X-APPLE-STRUCTURED-LOCATION;VALUE=URI;X-ADDRESS=Im Tiefertswinkel 29\, Spor
 tanlage hinter dem Schwimmbad\, Fürth\, Hessen\, 64658\, Deutschland;X-AP
 PLE-RADIUS=100;X-TITLE=Fürth/Odw.:geo:49.6500084,8.783754300000055
END:VEVENT
BEGIN:VTIMEZONE
TZID:Europe/Berlin
X-LIC-LOCATION:Europe/Berlin
BEGIN:DAYLIGHT
DTSTART:20130331T030000
TZOFFSETFROM:+0100
TZOFFSETTO:+0200
TZNAME:CEST
END:DAYLIGHT
END:VTIMEZONE
END:VCALENDAR