BEGIN:VCALENDAR
VERSION:2.0
PRODID:-//wp-events-plugin.com//7.2.3.1//EN
TZID:Europe/Berlin
X-WR-TIMEZONE:Europe/Berlin
BEGIN:VEVENT
UID:1764@drtv.de
DTSTART;TZID=Europe/Berlin;VALUE=DATE:20240714
DTEND;TZID=Europe/Berlin;VALUE=DATE:20240715
DTSTAMP:20240720T110540Z
URL:https://drtv.de/events/highland-games-angelbachtal-deutsche-meistersch
 aften-heavys/
SUMMARY:Highland Games Angelbachtal- Deutsche Meisterschaften Heavys
DESCRIPTION:Deutsche Meisterschaften der Heavys am 14. Juli 2024\nInfos\nVe
 ranstalter-Homepage\n\nErgebnisliste\nErgebnisse Angelbachtal 2024
CATEGORIES:Ergebnis Highland Games,Termin Highland Games
LOCATION:Angelbachtal\, Schloßstraße 1\, Angelbachtal\, Baden-Württember
 g\, 74918 \, Baden\, Deutschland
X-APPLE-STRUCTURED-LOCATION;VALUE=URI;X-ADDRESS=Schloßstraße 1\, Angelbac
 htal\, Baden-Württemberg\, 74918 \, Baden\, Deutschland;X-APPLE-RADIUS=10
 0;X-TITLE=Angelbachtal:geo:0,0
END:VEVENT
BEGIN:VTIMEZONE
TZID:Europe/Berlin
X-LIC-LOCATION:Europe/Berlin
BEGIN:DAYLIGHT
DTSTART:20240331T030000
TZOFFSETFROM:+0100
TZOFFSETTO:+0200
TZNAME:CEST
END:DAYLIGHT
END:VTIMEZONE
END:VCALENDAR