BEGIN:VCALENDAR
VERSION:2.0
PRODID:-//wp-events-plugin.com//7.2.3.1//EN
TZID:Europe/Berlin
X-WR-TIMEZONE:Europe/Berlin
BEGIN:VEVENT
UID:1194@drtv.de
DTSTART;TZID=Europe/Berlin;VALUE=DATE:20190727
DTEND;TZID=Europe/Berlin;VALUE=DATE:20190728
DTSTAMP:20230713T183604Z
URL:https://drtv.de/events/hobbyturnier-in-korb/
SUMMARY:Hobbyturnier in Korb
DESCRIPTION:[prettyfilelink size="" src="https://www.drtv.de/wp-content/upl
 oads/2018/12/Hobbyturnier-Korb.pdf" type="pdf"]Hobbyturnier-Korb[/prettyfi
 lelink]\n\n&nbsp\;
CATEGORIES:Termin Hobby-Tauziehen,Termin Tauziehen
LOCATION:Korb\, Raifeisenstrasse\, Korb\, Baden-Württemberg\, 74219\, Deut
 schland
GEO:49.3568495;9.398622899999964
X-APPLE-STRUCTURED-LOCATION;VALUE=URI;X-ADDRESS=Raifeisenstrasse\, Korb\, B
 aden-Württemberg\, 74219\, Deutschland;X-APPLE-RADIUS=100;X-TITLE=Korb:ge
 o:49.3568495,9.398622899999964
END:VEVENT
BEGIN:VTIMEZONE
TZID:Europe/Berlin
X-LIC-LOCATION:Europe/Berlin
BEGIN:DAYLIGHT
DTSTART:20190331T030000
TZOFFSETFROM:+0100
TZOFFSETTO:+0200
TZNAME:CEST
END:DAYLIGHT
END:VTIMEZONE
END:VCALENDAR