BEGIN:VCALENDAR
VERSION:2.0
PRODID:-//wp-events-plugin.com//7.2.3.1//EN
TZID:Europe/Berlin
X-WR-TIMEZONE:Europe/Berlin
BEGIN:VEVENT
UID:1018@drtv.de
DTSTART;TZID=Europe/Berlin;VALUE=DATE:20180308
DTEND;TZID=Europe/Berlin;VALUE=DATE:20180312
DTSTAMP:20230713T183655Z
URL:https://drtv.de/events/indoor-weltmeisterschaften-in-xuzhou-china/
SUMMARY:Indoor-Weltmeisterschaften in XuZhou\, China
DESCRIPTION:Ein Damenteam wird an dieser WM teilnehmen.
CATEGORIES:Termin Tauziehen
END:VEVENT
BEGIN:VTIMEZONE
TZID:Europe/Berlin
X-LIC-LOCATION:Europe/Berlin
BEGIN:STANDARD
DTSTART:20171029T020000
TZOFFSETFROM:+0200
TZOFFSETTO:+0100
TZNAME:CET
END:STANDARD
END:VTIMEZONE
END:VCALENDAR