BEGIN:VCALENDAR
VERSION:2.0
PRODID:-//wp-events-plugin.com//7.2.3.1//EN
TZID:Europe/Berlin
X-WR-TIMEZONE:Europe/Berlin
BEGIN:VEVENT
UID:859@drtv.de
DTSTART;TZID=Europe/Berlin;VALUE=DATE:20170624
DTEND;TZID=Europe/Berlin;VALUE=DATE:20170626
DTSTAMP:20230713T183755Z
URL:https://drtv.de/events/intern-turnier-in-engelberg-ch/
SUMMARY:Intern. Turnier in Engelberg (CH)
DESCRIPTION:
CATEGORIES:Termin Tauziehen
END:VEVENT
BEGIN:VTIMEZONE
TZID:Europe/Berlin
X-LIC-LOCATION:Europe/Berlin
BEGIN:DAYLIGHT
DTSTART:20170326T030000
TZOFFSETFROM:+0100
TZOFFSETTO:+0200
TZNAME:CEST
END:DAYLIGHT
END:VTIMEZONE
END:VCALENDAR