BEGIN:VCALENDAR
VERSION:2.0
PRODID:-//wp-events-plugin.com//7.2.3.1//EN
TZID:Europe/Berlin
X-WR-TIMEZONE:Europe/Berlin
BEGIN:VEVENT
UID:1697@drtv.de
DTSTART;TZID=Europe/Berlin;VALUE=DATE:20231111
DTEND;TZID=Europe/Berlin;VALUE=DATE:20231112
DTSTAMP:20231002T140331Z
URL:https://drtv.de/events/jahrestagung-2023-ausserordentlicher-verbandsta
 g-brtv/
SUMMARY:Jahrestagung 2023 / außerordentlicher Verbandstag BRTV
DESCRIPTION:einladung_Jahresstagung2023\n\neinladung_Verbandstag2023
CATEGORIES:Termin Rasenkraftsport
LOCATION:München Manzoschule\, Manzostraße 79\, München\, 80997\, Deutsc
 hland
GEO:48.183978;11.483011
X-APPLE-STRUCTURED-LOCATION;VALUE=URI;X-ADDRESS=Manzostraße 79\, München\
 , 80997\, Deutschland;X-APPLE-RADIUS=100;X-TITLE=München Manzoschule:geo:
 48.183978,11.483011
END:VEVENT
BEGIN:VTIMEZONE
TZID:Europe/Berlin
X-LIC-LOCATION:Europe/Berlin
BEGIN:STANDARD
DTSTART:20231029T020000
TZOFFSETFROM:+0200
TZOFFSETTO:+0100
TZNAME:CET
END:STANDARD
END:VTIMEZONE
END:VCALENDAR