BEGIN:VCALENDAR
VERSION:2.0
PRODID:-//wp-events-plugin.com//7.2.3.1//EN
TZID:Europe/Berlin
X-WR-TIMEZONE:Europe/Berlin
BEGIN:VEVENT
UID:715@drtv.de
DTSTART;TZID=Europe/Berlin:20160507T170000
DTEND;TZID=Europe/Berlin:20160507T170000
DTSTAMP:20230713T183849Z
URL:https://drtv.de/events/jugendliga-suedbaden-%e2%89%a4450-kg-1-wettkamp
 ftag/
SUMMARY:Jugendliga Südbaden ≤450 kg - 1. Wettkampftag
DESCRIPTION:Ausrichter:\n\nVerband:    SRTV\n\nVerein:      TZC Esc
 hbachtal\n\nDatum:       (Samstag) Wiegen 16:00 Turnierbeginn 17:00\
 n\nOrt:            Festwiese\; Kirchzartenerstr.\;79252 Stegen\n
 \n[prettyfilelink size="" src="https://www.drtv.de/wp-content/uploads/2015
 /12/SRTV_JL_2016_1WK_Eschbachtal_Ergebnisdienst_BFA-T_mit_Turnierliste.pdf
 " type="pdf"]SRTV_JL_2016_1WK_Eschbachtal_Ergebnisdienst_BFA-T_mit_Turnier
 liste[/prettyfilelink]
CATEGORIES:Ergebnis Tauziehen,Termin Tauziehen
LOCATION:Stegen - TCZ Eschbachtal\, Festwiese\, Kirchzartenerstr.\, Stegen\
 , Südbaden\, 79252\, Deutschland
GEO:47.992263;7.977944
X-APPLE-STRUCTURED-LOCATION;VALUE=URI;X-ADDRESS=Festwiese\, Kirchzartenerst
 r.\, Stegen\, Südbaden\, 79252\, Deutschland;X-APPLE-RADIUS=100;X-TITLE=S
 tegen - TCZ Eschbachtal:geo:47.992263,7.977944
END:VEVENT
BEGIN:VTIMEZONE
TZID:Europe/Berlin
X-LIC-LOCATION:Europe/Berlin
BEGIN:DAYLIGHT
DTSTART:20160327T030000
TZOFFSETFROM:+0100
TZOFFSETTO:+0200
TZNAME:CEST
END:DAYLIGHT
END:VTIMEZONE
END:VCALENDAR