BEGIN:VCALENDAR
VERSION:2.0
PRODID:-//wp-events-plugin.com//7.2.3.1//EN
TZID:Europe/Berlin
X-WR-TIMEZONE:Europe/Berlin
BEGIN:VEVENT
UID:1281@drtv.de
DTSTART;TZID=Europe/Berlin:20190803T100000
DTEND;TZID=Europe/Berlin:20190803T160000
DTSTAMP:20230713T183506Z
URL:https://drtv.de/events/kampfrichter-schulung-rks/
SUMMARY:Kampfrichter-Schulung RKS
DESCRIPTION:RKS-Kampfrichter Schulung und Prüfung in Waiblingen\nOrt\nVfL-
 Heim  Vereinszimmer 1. OG links\nZeitraum\n10.00 - 16.00 Uhr   mit Mitt
 agspause ca. 12.30 Uhr\nDurchgeführt durch den DRTV- und WRTV- KR-Obmann 
 Werner KienerTeilnahme für alle Vereine des WRTV\, auch Gäste von außer
 halb erwünscht\n\nAnmeldungen erbeten an Reinhard.weiss-motz@gmx.de
CATEGORIES:Termin Rasenkraftsport
LOCATION:Waiblingen\, Oberer Ring 1\, Waiblingen\, 71332\, VfL Stadion und 
 Wurfanlage\, Deutschland
GEO:48.8249771;9.328668500000048
X-APPLE-STRUCTURED-LOCATION;VALUE=URI;X-ADDRESS=Oberer Ring 1\, Waiblingen\
 , 71332\, VfL Stadion und Wurfanlage\, Deutschland;X-APPLE-RADIUS=100;X-TI
 TLE=Waiblingen:geo:48.8249771,9.328668500000048
END:VEVENT
BEGIN:VTIMEZONE
TZID:Europe/Berlin
X-LIC-LOCATION:Europe/Berlin
BEGIN:DAYLIGHT
DTSTART:20190331T030000
TZOFFSETFROM:+0100
TZOFFSETTO:+0200
TZNAME:CEST
END:DAYLIGHT
END:VTIMEZONE
END:VCALENDAR