BEGIN:VCALENDAR
VERSION:2.0
PRODID:-//wp-events-plugin.com//7.2.3.1//EN
TZID:Europe/Berlin
X-WR-TIMEZONE:Europe/Berlin
BEGIN:VEVENT
UID:553@drtv.de
DTSTART;TZID=Europe/Berlin;VALUE=DATE:20150509
DTEND;TZID=Europe/Berlin;VALUE=DATE:20150510
DTSTAMP:20230713T183942Z
URL:https://drtv.de/events/lander-vergleichskampf-wrtv-bayern-hessen/
SUMMARY:WRTV-Senioren + A-Jugend + A-Schüler + C-Schüler
DESCRIPTION:[prettyfilelink size="" src="https://www.drtv.de/wp-content/upl
 oads/2015/01/WRTV-Senioren-2015_Ergebnisliste-Kurzform.htm" type="html"]Er
 gebnisse-WRTV_Senioren_2015[/prettyfilelink][prettyfilelink size="" src="h
 ttps://www.drtv.de/wp-content/uploads/2015/01/WRTV_Senioren_2015.pdf" type
 ="pdf"]WRTV_Senioren_2015[/prettyfilelink]
CATEGORIES:Ergebnis Rasenkraftsport,Termin Rasenkraftsport
LOCATION:Maselheim\, Wennedacher Str. 5\, Maselheim\, Württemberg\, 88437\
 , Oberschwaben\, Deutschland
GEO:48.133212;9.885989
X-APPLE-STRUCTURED-LOCATION;VALUE=URI;X-ADDRESS=Wennedacher Str. 5\, Maselh
 eim\, Württemberg\, 88437\, Oberschwaben\, Deutschland;X-APPLE-RADIUS=100
 ;X-TITLE=Maselheim:geo:48.133212,9.885989
END:VEVENT
BEGIN:VTIMEZONE
TZID:Europe/Berlin
X-LIC-LOCATION:Europe/Berlin
BEGIN:DAYLIGHT
DTSTART:20150329T030000
TZOFFSETFROM:+0100
TZOFFSETTO:+0200
TZNAME:CEST
END:DAYLIGHT
END:VTIMEZONE
END:VCALENDAR