BEGIN:VCALENDAR
VERSION:2.0
PRODID:-//wp-events-plugin.com//7.2.3.1//EN
TZID:Europe/Berlin
X-WR-TIMEZONE:Europe/Berlin
BEGIN:VEVENT
UID:256@drtv.de
DTSTART;TZID=Europe/Berlin:20130505T100000
DTEND;TZID=Europe/Berlin:20130505T100000
DTSTAMP:20230713T184125Z
URL:https://drtv.de/events/landesliga-sudbaden-%e2%89%a4640-kg-1-wettkampf
 tag/
SUMMARY:Landesliga Südbaden ≤640 kg - 1. Wettkampftag
DESCRIPTION:Ausrichter:\n\nVerband:     SRTV\nVerein:        TZC
  Eschbachtal\nOrt:              79252 Stegen\; Im Gewerbepark
 \n\nWiegen:             08:30\nTurnierbeginn: 10:00\n\n[pretty
 filelink src="https://www.drtv.de/wp-content/uploads/2013/02/SRTV_LL_2013_
 1WK_Eschbachtal_Ergebnisdienst_BFA-T_mit_Turnierliste.pdf" type="pdf"]SRTV
 _LL_2013_1WK_Eschbachtal_Ergebnisdienst_BFA-T_mit_Turnierliste[/prettyfile
 link]
CATEGORIES:Ergebnis Tauziehen,Termin Tauziehen
LOCATION:Stegen - TCZ Eschbachtal\, Festwiese\, Kirchzartenerstr.\, Stegen\
 , Südbaden\, 79252\, Deutschland
GEO:47.992263;7.977944
X-APPLE-STRUCTURED-LOCATION;VALUE=URI;X-ADDRESS=Festwiese\, Kirchzartenerst
 r.\, Stegen\, Südbaden\, 79252\, Deutschland;X-APPLE-RADIUS=100;X-TITLE=S
 tegen - TCZ Eschbachtal:geo:47.992263,7.977944
END:VEVENT
BEGIN:VTIMEZONE
TZID:Europe/Berlin
X-LIC-LOCATION:Europe/Berlin
BEGIN:DAYLIGHT
DTSTART:20130331T030000
TZOFFSETFROM:+0100
TZOFFSETTO:+0200
TZNAME:CEST
END:DAYLIGHT
END:VTIMEZONE
END:VCALENDAR