BEGIN:VCALENDAR
VERSION:2.0
PRODID:-//wp-events-plugin.com//7.2.3.1//EN
TZID:Europe/Berlin
X-WR-TIMEZONE:Europe/Berlin
BEGIN:VEVENT
UID:257@drtv.de
DTSTART;TZID=Europe/Berlin:20130512T160000
DTEND;TZID=Europe/Berlin:20130512T160000
DTSTAMP:20230713T184125Z
URL:https://drtv.de/events/landesliga-sudbaden-%e2%89%a4640-kg-2-wettkampf
 tag/
SUMMARY:Landesliga Südbaden ≤640 kg - 2. Wettkampftag
DESCRIPTION:Ausrichter:\n\nVerband:             SRTV\nVerein: 
                Tauziehclub Wieden e.V.\nOrt:        
               79695 Wieden\; Melanie-Behringer-Stadion\; Nied
 ermatt 50\nWiegen :             14:00\nTurnierbeginn: 16:00\n\
 n[prettyfilelink src="https://www.drtv.de/wp-content/uploads/2013/04/SRTV_
 LL_2013_2WK_Wieden_Ergebnisdienst_BFA-T_mit_Turnierliste_.pdf" type="pdf"]
 SRTV_LL_2013_2WK_Wieden_Ergebnisdienst_BFA-T_mit_Turnierliste_[/prettyfile
 link]
CATEGORIES:Ergebnis Tauziehen,Termin Tauziehen
LOCATION:Wieden\, Niedermatt 50\,\, Wieden - Melanie-Behringer-Stadion\, S
 üdbaden\, 79695\, Deutschland
GEO:47.8438328;7.89356870000006
X-APPLE-STRUCTURED-LOCATION;VALUE=URI;X-ADDRESS=Niedermatt 50\,\, Wieden - 
 Melanie-Behringer-Stadion\, Südbaden\, 79695\, Deutschland;X-APPLE-RADIUS
 =100;X-TITLE=Wieden:geo:47.8438328,7.89356870000006
END:VEVENT
BEGIN:VTIMEZONE
TZID:Europe/Berlin
X-LIC-LOCATION:Europe/Berlin
BEGIN:DAYLIGHT
DTSTART:20130331T030000
TZOFFSETFROM:+0100
TZOFFSETTO:+0200
TZNAME:CEST
END:DAYLIGHT
END:VTIMEZONE
END:VCALENDAR