BEGIN:VCALENDAR
VERSION:2.0
PRODID:-//wp-events-plugin.com//7.2.3.1//EN
TZID:Europe/Berlin
X-WR-TIMEZONE:Europe/Berlin
BEGIN:VEVENT
UID:259@drtv.de
DTSTART;TZID=Europe/Berlin:20130630T160000
DTEND;TZID=Europe/Berlin:20130630T160000
DTSTAMP:20230713T184124Z
URL:https://drtv.de/events/landesliga-sudbaden-%e2%89%a4640-kg-4-wettkampf
 tag/
SUMMARY:Landesliga Südbaden ≤640 kg - 4. Wettkampftag
DESCRIPTION:[prettyfilelink src="https://www.drtv.de/wp-content/uploads/201
 3/02/SRTV_LL_2013_4WK_Neuried_Ergebnisdienst_BFA-T_mit_Turnierliste.pdf" t
 ype="pdf"]SRTV_LL_2013_4WK_Neuried_Ergebnisdienst_BFA-T_mit_Turnierliste[/
 prettyfilelink]\n\nAusrichter:\n\nVerband:           SRTV\nVerei
 n:               TZC Neuried\nOrt:             
         77743 Neuried – Altenheim\; Sportanlage Herbert Adam Hall
 e\nWiegen:              14:00\nTurnierbeginn: 16:00\n\n&nbsp\
 ;
CATEGORIES:Ergebnis Tauziehen,Termin Tauziehen
LOCATION:Neuried\, Viehweider Weg\, Neuried\, 77743\, Deutschland
GEO:48.40226;7.837210000000027
X-APPLE-STRUCTURED-LOCATION;VALUE=URI;X-ADDRESS=Viehweider Weg\, Neuried\, 
 77743\, Deutschland;X-APPLE-RADIUS=100;X-TITLE=Neuried:geo:48.40226,7.8372
 10000000027
END:VEVENT
BEGIN:VTIMEZONE
TZID:Europe/Berlin
X-LIC-LOCATION:Europe/Berlin
BEGIN:DAYLIGHT
DTSTART:20130331T030000
TZOFFSETFROM:+0100
TZOFFSETTO:+0200
TZNAME:CEST
END:DAYLIGHT
END:VTIMEZONE
END:VCALENDAR