BEGIN:VCALENDAR
VERSION:2.0
PRODID:-//wp-events-plugin.com//7.2.3.1//EN
TZID:Europe/Berlin
X-WR-TIMEZONE:Europe/Berlin
BEGIN:VEVENT
UID:261@drtv.de
DTSTART;TZID=Europe/Berlin:20130721T130000
DTEND;TZID=Europe/Berlin:20130721T130000
DTSTAMP:20230713T184124Z
URL:https://drtv.de/events/landesliga-sudbaden-%e2%89%a4640-kg-6-wettkampf
 tag/
SUMMARY:Landesliga Südbaden ≤640 kg - 6. Wettkampftag
DESCRIPTION:[prettyfilelink src="https://www.drtv.de/wp-content/uploads/201
 3/04/SRTV_LL_2013_6WK_Denzlingen_Ergebnisdienst_BFA-T_mit_Turnierliste.pdf
 " type="pdf"]SRTV_LL_2013_6WK_Denzlingen_Ergebnisdienst_BFA-T_mit_Turnierl
 iste[/prettyfilelink]\n\nAusrichter:\n\nVerband: SRTV\nVerein: TZV Denzlin
 gen\nOrt: Tauziehplatz beim Mauracher Hof\; 79211 Denzlingen\nDatum: 21.07
 .2013\nWiegen: 10:00\nTurnierbeginn: 13:00
CATEGORIES:Ergebnis Tauziehen,Termin Tauziehen
LOCATION:Denzlingen\, Mauracher Hof\, Denzlingen\, Südbaden\, 79211\, Deut
 schland
GEO:48.07424959999999;7.90111509999997
X-APPLE-STRUCTURED-LOCATION;VALUE=URI;X-ADDRESS=Mauracher Hof\, Denzlingen\
 , Südbaden\, 79211\, Deutschland;X-APPLE-RADIUS=100;X-TITLE=Denzlingen:ge
 o:48.07424959999999,7.90111509999997
END:VEVENT
BEGIN:VTIMEZONE
TZID:Europe/Berlin
X-LIC-LOCATION:Europe/Berlin
BEGIN:DAYLIGHT
DTSTART:20130331T030000
TZOFFSETFROM:+0100
TZOFFSETTO:+0200
TZNAME:CEST
END:DAYLIGHT
END:VTIMEZONE
END:VCALENDAR