BEGIN:VCALENDAR
VERSION:2.0
PRODID:-//wp-events-plugin.com//7.2.3.1//EN
TZID:Europe/Berlin
X-WR-TIMEZONE:Europe/Berlin
BEGIN:VEVENT
UID:263@drtv.de
DTSTART;TZID=Europe/Berlin:20130818T100000
DTEND;TZID=Europe/Berlin:20130818T100000
DTSTAMP:20230713T184124Z
URL:https://drtv.de/events/landesliga-sudbaden-%e2%89%a4640-kg-8-wettkampf
 tag-finale/
SUMMARY:Landesliga Südbaden ≤640 kg - 8. Wettkampftag + Finale
DESCRIPTION:[prettyfilelink src="https://www.drtv.de/wp-content/uploads/201
 3/04/SRTV_LL_2013_8WK_Boellen_Ergebnisdienst_BFA-T_mit_Turnierliste.pdf" t
 ype="pdf"]SRTV_LL_2013_8WK_Boellen_Ergebnisdienst_BFA-T_mit_Turnierliste[/
 prettyfilelink]\n\nAusrichter:\n\nVerband: SRTV\nVerein: TzFr. Böllen\nOr
 t: 79677 Schönau/SchwarzwaldBolzplatz Schönau-Brand\; An der B 317(Brand
  38)\nWiegen: 08:30\nTurnierbeginn: 10:00
CATEGORIES:Ergebnis Tauziehen,Termin Tauziehen
LOCATION:Kirchzarten - TZF Dietenbach\, Dietenbach 17\, Kirchzarten\, Südb
 aden\, 79199\, Deutschland
GEO:47.95931;7.950298
X-APPLE-STRUCTURED-LOCATION;VALUE=URI;X-ADDRESS=Dietenbach 17\, Kirchzarten
 \, Südbaden\, 79199\, Deutschland;X-APPLE-RADIUS=100;X-TITLE=Kirchzarten 
 - TZF Dietenbach:geo:47.95931,7.950298
END:VEVENT
BEGIN:VTIMEZONE
TZID:Europe/Berlin
X-LIC-LOCATION:Europe/Berlin
BEGIN:DAYLIGHT
DTSTART:20130331T030000
TZOFFSETFROM:+0100
TZOFFSETTO:+0200
TZNAME:CEST
END:DAYLIGHT
END:VTIMEZONE
END:VCALENDAR