BEGIN:VCALENDAR
VERSION:2.0
PRODID:-//wp-events-plugin.com//7.2.3.1//EN
TZID:Europe/Berlin
X-WR-TIMEZONE:Europe/Berlin
BEGIN:VEVENT
UID:721@drtv.de
DTSTART;TZID=Europe/Berlin:20160626T130000
DTEND;TZID=Europe/Berlin:20160626T130000
DTSTAMP:20230713T183848Z
URL:https://drtv.de/events/landesliga-suedbaden-%e2%89%a4640-kg-3-wettkamp
 ftag/
SUMMARY:Landesliga Südbaden ≤640 kg - 3. Wettkampftag
DESCRIPTION:[prettyfilelink size="" src="https://www.drtv.de/wp-content/upl
 oads/2015/12/SRTV_LL_2016_3WK_Denzlingen_Ergebnisdienst_BFA-T_mit_Turnierl
 iste.pdf" type="pdf"]SRTV_LL_2016_3WK_Denzlingen_Ergebnisdienst_BFA-T_mit_
 Turnierliste[/prettyfilelink]\n\nAusrichter:\n\nVerband:   SRTV\n\nVerei
 n:      TZV Denzlingen\n\nDatum:     Wiegen 10:00 Turnierbeginn 
 13:00\n\n&nbsp\;
CATEGORIES:Ergebnis Tauziehen,Termin Tauziehen
LOCATION:Denzlingen\, Mauracher Hof\, Denzlingen\, Südbaden\, 79211\, Deut
 schland
GEO:48.07424959999999;7.90111509999997
X-APPLE-STRUCTURED-LOCATION;VALUE=URI;X-ADDRESS=Mauracher Hof\, Denzlingen\
 , Südbaden\, 79211\, Deutschland;X-APPLE-RADIUS=100;X-TITLE=Denzlingen:ge
 o:48.07424959999999,7.90111509999997
END:VEVENT
BEGIN:VTIMEZONE
TZID:Europe/Berlin
X-LIC-LOCATION:Europe/Berlin
BEGIN:DAYLIGHT
DTSTART:20160327T030000
TZOFFSETFROM:+0100
TZOFFSETTO:+0200
TZNAME:CEST
END:DAYLIGHT
END:VTIMEZONE
END:VCALENDAR