BEGIN:VCALENDAR
VERSION:2.0
PRODID:-//wp-events-plugin.com//7.2.3.1//EN
TZID:Europe/Berlin
X-WR-TIMEZONE:Europe/Berlin
BEGIN:VEVENT
UID:722@drtv.de
DTSTART;TZID=Europe/Berlin:20160710T100000
DTEND;TZID=Europe/Berlin:20160710T100000
DTSTAMP:20230713T183847Z
URL:https://drtv.de/events/landesliga-suedbaden-%e2%89%a4640-kg-4-wettkamp
 ftag/
SUMMARY:Landesliga Südbaden ≤640 kg - 4. Wettkampftag
DESCRIPTION:Ausrichter:\n\nVerband:     SRTV\n\nVerein:       Dre
 am Team Siegelau\n\nDatum:       Wiegen 08:30 Turnierbeginn 10:00\n\
 nOrt:           79261 Gutach-Siegelau Berghausweg 2\; Wiese gegen
 ü. Gasth.Bären\,\n\n[prettyfilelink size="" src="https://www.drtv.de/wp-
 content/uploads/2015/12/SRTV_LL_2016_4WK_Siegelau_Ergebnisdienst_BFA-T_mit
 _Turnierliste.pdf" type="pdf"]SRTV_LL_2016_4WK_Siegelau_Ergebnisdienst_BFA
 -T_mit_Turnierliste[/prettyfilelink]
CATEGORIES:Ergebnis Tauziehen,Termin Tauziehen
LOCATION:Siegelau\, Berghausweg 2\, Gutach-Siegelau\, Südbaden\, 79261\, D
 eutschland
GEO:48.13677;7.982330000000047
X-APPLE-STRUCTURED-LOCATION;VALUE=URI;X-ADDRESS=Berghausweg 2\, Gutach-Sieg
 elau\, Südbaden\, 79261\, Deutschland;X-APPLE-RADIUS=100;X-TITLE=Siegelau
 :geo:48.13677,7.982330000000047
END:VEVENT
BEGIN:VTIMEZONE
TZID:Europe/Berlin
X-LIC-LOCATION:Europe/Berlin
BEGIN:DAYLIGHT
DTSTART:20160327T030000
TZOFFSETFROM:+0100
TZOFFSETTO:+0200
TZNAME:CEST
END:DAYLIGHT
END:VTIMEZONE
END:VCALENDAR