BEGIN:VCALENDAR
VERSION:2.0
PRODID:-//wp-events-plugin.com//7.2.3.1//EN
TZID:Europe/Berlin
X-WR-TIMEZONE:Europe/Berlin
BEGIN:VEVENT
UID:723@drtv.de
DTSTART;TZID=Europe/Berlin:20160717T130000
DTEND;TZID=Europe/Berlin:20160717T130000
DTSTAMP:20230713T183848Z
URL:https://drtv.de/events/landesliga-suedbaden-%e2%89%a4640-kg-5-wettkamp
 ftag/
SUMMARY:Landesliga Südbaden ≤640 kg - 5. Wettkampftag
DESCRIPTION:[prettyfilelink size="" src="https://www.drtv.de/wp-content/upl
 oads/2015/12/SRTV_LL_2016_5WK_Horben_Ergebnisdienst_BFA-T_mit_Turnierliste
 -1.pdf" type="pdf"]SRTV_LL_2016_5WK_Horben_Ergebnisdienst_BFA-T_mit_Turnie
 rliste[/prettyfilelink]\n\n[prettyfilelink size="" src="https://www.drtv.d
 e/wp-content/uploads/2015/12/SRTV_JL_2016_4WK_Horben_Ergebnisdienst_BFA-T_
 mit_Turnierliste.pdf" type="pdf"]SRTV_JL_2016_4WK_Horben_Ergebnisdienst_BF
 A-T_mit_Turnierliste[/prettyfilelink]\n\nAusrichter:\n\nVerband:     S
 RTV\n\nVerein:       TC Feuerstein Horben\n\nDatum:       Wieg
 en 10:00 Turnierbeginn 13:00\n\nOrt:          79289 Horben\, Dorf
 str. 2 (Ortsmitte/Schule)
CATEGORIES:Ergebnis Tauziehen,Termin Tauziehen
LOCATION:Horben\, Dorfstr. 2\, Horben\, 79289\, Deutschland
GEO:47.935398;7.8583865000000515
X-APPLE-STRUCTURED-LOCATION;VALUE=URI;X-ADDRESS=Dorfstr. 2\, Horben\, 79289
 \, Deutschland;X-APPLE-RADIUS=100;X-TITLE=Horben:geo:47.935398,7.858386500
 0000515
END:VEVENT
BEGIN:VTIMEZONE
TZID:Europe/Berlin
X-LIC-LOCATION:Europe/Berlin
BEGIN:DAYLIGHT
DTSTART:20160327T030000
TZOFFSETFROM:+0100
TZOFFSETTO:+0200
TZNAME:CEST
END:DAYLIGHT
END:VTIMEZONE
END:VCALENDAR