BEGIN:VCALENDAR
VERSION:2.0
PRODID:-//wp-events-plugin.com//7.2.3.1//EN
TZID:Europe/Berlin
X-WR-TIMEZONE:Europe/Berlin
BEGIN:VEVENT
UID:725@drtv.de
DTSTART;TZID=Europe/Berlin:20160731T100000
DTEND;TZID=Europe/Berlin:20160731T100000
DTSTAMP:20230713T183848Z
URL:https://drtv.de/events/landesliga-suedbaden-%e2%89%a4640-kg-7-wettkamp
 ftag/
SUMMARY:Landesliga Südbaden ≤640 kg - 7. Wettkampftag
DESCRIPTION:Ausrichter:\n\nVerband:   SRTV\n\nVerein:      TzFr. Bö
 llen\n\nDatum:      Wiegen 08:30 Turnierbeginn 10:00\n\nOrt:    
       79677 Schönau/Schwarzwald Bolzplatz Schönau-Brand\; An der B 
 317(Brand 38)\;\n\n[prettyfilelink size="" src="https://www.drtv.de/wp-con
 tent/uploads/2015/12/2016_LandesligaSuedbaden_7WK_Boellen.pdf" type="pdf"]
 2016_LandesligaSuedbaden_7WK_Boellen[/prettyfilelink]
CATEGORIES:Ergebnis Tauziehen,Termin Tauziehen
LOCATION:Kirchzarten - TZF Dietenbach\, Dietenbach 17\, Kirchzarten\, Südb
 aden\, 79199\, Deutschland
GEO:47.95931;7.950298
X-APPLE-STRUCTURED-LOCATION;VALUE=URI;X-ADDRESS=Dietenbach 17\, Kirchzarten
 \, Südbaden\, 79199\, Deutschland;X-APPLE-RADIUS=100;X-TITLE=Kirchzarten 
 - TZF Dietenbach:geo:47.95931,7.950298
END:VEVENT
BEGIN:VTIMEZONE
TZID:Europe/Berlin
X-LIC-LOCATION:Europe/Berlin
BEGIN:DAYLIGHT
DTSTART:20160327T030000
TZOFFSETFROM:+0100
TZOFFSETTO:+0200
TZNAME:CEST
END:DAYLIGHT
END:VTIMEZONE
END:VCALENDAR