BEGIN:VCALENDAR
VERSION:2.0
PRODID:-//wp-events-plugin.com//7.2.3.1//EN
TZID:Europe/Berlin
X-WR-TIMEZONE:Europe/Berlin
BEGIN:VEVENT
UID:726@drtv.de
DTSTART;TZID=Europe/Berlin:20160814T130000
DTEND;TZID=Europe/Berlin:20160814T130000
DTSTAMP:20230713T183849Z
URL:https://drtv.de/events/landesliga-suedbaden-%e2%89%a4640-kg-8-wettkamp
 ftag/
SUMMARY:Landesliga Südbaden ≤640 kg - 8. Wettkampftag
DESCRIPTION:Verband:     SRTV\n\nVerein:       TZC Neuried\n\nDat
 um:      Wiegen 10:00 Turnierbeginn 13:00\n\nOrt:          7
 7743 Neuried – Altenheim\; Sportanlage Herbert Adam Halle\n\n[prettyfile
 link size="" src="https://www.drtv.de/wp-content/uploads/2015/12/SRTV_LL_2
 016_8WK_Neuried_Ergebnisdienst_BFA-T_mit_Turnierliste.pdf" type="pdf"]SRTV
 _LL_2016_8WK_Neuried_Ergebnisdienst_BFA-T_mit_Turnierliste[/prettyfilelink
 ]
CATEGORIES:Ergebnis Tauziehen,Termin Tauziehen
LOCATION:Neuried\, Viehweider Weg\, Neuried\, 77743\, Deutschland
GEO:48.40226;7.837210000000027
X-APPLE-STRUCTURED-LOCATION;VALUE=URI;X-ADDRESS=Viehweider Weg\, Neuried\, 
 77743\, Deutschland;X-APPLE-RADIUS=100;X-TITLE=Neuried:geo:48.40226,7.8372
 10000000027
END:VEVENT
BEGIN:VTIMEZONE
TZID:Europe/Berlin
X-LIC-LOCATION:Europe/Berlin
BEGIN:DAYLIGHT
DTSTART:20160327T030000
TZOFFSETFROM:+0100
TZOFFSETTO:+0200
TZNAME:CEST
END:DAYLIGHT
END:VTIMEZONE
END:VCALENDAR