BEGIN:VCALENDAR
VERSION:2.0
PRODID:-//wp-events-plugin.com//7.2.3.1//EN
TZID:Europe/Berlin
X-WR-TIMEZONE:Europe/Berlin
BEGIN:VEVENT
UID:1673@drtv.de
DTSTART;TZID=Europe/Berlin;VALUE=DATE:20230702
DTEND;TZID=Europe/Berlin;VALUE=DATE:20230703
DTSTAMP:20230713T183135Z
URL:https://drtv.de/events/landesliga-suedbaden-680kg-2-termin/
SUMMARY:Landesliga Südbaden 680kg - 2. Termin
DESCRIPTION:
LOCATION:Denzlingen\, Mauracher Hof\, Denzlingen\, Südbaden\, 79211\, Deut
 schland
GEO:48.07424959999999;7.90111509999997
X-APPLE-STRUCTURED-LOCATION;VALUE=URI;X-ADDRESS=Mauracher Hof\, Denzlingen\
 , Südbaden\, 79211\, Deutschland;X-APPLE-RADIUS=100;X-TITLE=Denzlingen:ge
 o:48.07424959999999,7.90111509999997
END:VEVENT
BEGIN:VTIMEZONE
TZID:Europe/Berlin
X-LIC-LOCATION:Europe/Berlin
BEGIN:DAYLIGHT
DTSTART:20230326T030000
TZOFFSETFROM:+0100
TZOFFSETTO:+0200
TZNAME:CEST
END:DAYLIGHT
END:VTIMEZONE
END:VCALENDAR