BEGIN:VCALENDAR
VERSION:2.0
PRODID:-//wp-events-plugin.com//7.2.3.1//EN
TZID:Europe/Berlin
X-WR-TIMEZONE:Europe/Berlin
BEGIN:VEVENT
UID:1079@drtv.de
DTSTART;TZID=Europe/Berlin;VALUE=DATE:20180819
DTEND;TZID=Europe/Berlin;VALUE=DATE:20180820
DTSTAMP:20230713T183642Z
URL:https://drtv.de/events/landesliga-suedbaden-in-denzlingen/
SUMMARY:Landesliga Südbaden in Denzlingen
DESCRIPTION:[prettyfilelink size="" src="https://www.drtv.de/wp-content/upl
 oads/2018/03/2018_LandesligaSuedbaden_8Wk_Denzlingen_Turnierliste.pdf" typ
 e="pdf"]2018_LandesligaSuedbaden_8Wk_Denzlingen_Turnierliste[/prettyfileli
 nk]\n\n[prettyfilelink size="" src="https://www.drtv.de/wp-content/uploads
 /2018/03/2018_JugendLigaSuedbaden_5WK_Denzlingen_Turnierliste.pdf" type="p
 df"]2018_JugendLigaSuedbaden_5WK_Denzlingen_Turnierliste[/prettyfilelink]
CATEGORIES:Ergebnis Tauziehen,Termin Tauziehen
LOCATION:Denzlingen\, Mauracher Hof\, Denzlingen\, Südbaden\, 79211\, Deut
 schland
GEO:48.07424959999999;7.90111509999997
X-APPLE-STRUCTURED-LOCATION;VALUE=URI;X-ADDRESS=Mauracher Hof\, Denzlingen\
 , Südbaden\, 79211\, Deutschland;X-APPLE-RADIUS=100;X-TITLE=Denzlingen:ge
 o:48.07424959999999,7.90111509999997
END:VEVENT
BEGIN:VTIMEZONE
TZID:Europe/Berlin
X-LIC-LOCATION:Europe/Berlin
BEGIN:DAYLIGHT
DTSTART:20180325T030000
TZOFFSETFROM:+0100
TZOFFSETTO:+0200
TZNAME:CEST
END:DAYLIGHT
END:VTIMEZONE
END:VCALENDAR