BEGIN:VCALENDAR
VERSION:2.0
PRODID:-//wp-events-plugin.com//7.2.3.1//EN
TZID:Europe/Berlin
X-WR-TIMEZONE:Europe/Berlin
BEGIN:VEVENT
UID:1208@drtv.de
DTSTART;TZID=Europe/Berlin;VALUE=DATE:20190707
DTEND;TZID=Europe/Berlin;VALUE=DATE:20190708
DTSTAMP:20230713T183600Z
URL:https://drtv.de/events/landesliga-suedbaden-in-simonswald/
SUMMARY:Landesliga Südbaden in Simonswald
DESCRIPTION:Ergebnisse:\n\n[prettyfilelink size="" src="https://www.drtv.de
 /wp-content/uploads/2018/12/2019_LandesligaSuedbaden_5WK_Simonswald_Turnie
 rliste.pdf" type="pdf"]2019_LandesligaSuedbaden_5WK_Simonswald_Turnierlist
 e[/prettyfilelink]
CATEGORIES:Ergebnis Tauziehen,Termin Tauziehen
LOCATION:Simonswald\, Sportplatzweg\, Simonswald\, Südbaden\, 79263\, Deut
 schland
GEO:48.09395989999999;8.092868700000053
X-APPLE-STRUCTURED-LOCATION;VALUE=URI;X-ADDRESS=Sportplatzweg\, Simonswald\
 , Südbaden\, 79263\, Deutschland;X-APPLE-RADIUS=100;X-TITLE=Simonswald:ge
 o:48.09395989999999,8.092868700000053
END:VEVENT
BEGIN:VTIMEZONE
TZID:Europe/Berlin
X-LIC-LOCATION:Europe/Berlin
BEGIN:DAYLIGHT
DTSTART:20190331T030000
TZOFFSETFROM:+0100
TZOFFSETTO:+0200
TZNAME:CEST
END:DAYLIGHT
END:VTIMEZONE
END:VCALENDAR