BEGIN:VCALENDAR
VERSION:2.0
PRODID:-//wp-events-plugin.com//7.2.3.1//EN
TZID:Europe/Berlin
X-WR-TIMEZONE:Europe/Berlin
BEGIN:VEVENT
UID:1332@drtv.de
DTSTART;TZID=Europe/Berlin;VALUE=DATE:20200620
DTEND;TZID=Europe/Berlin;VALUE=DATE:20200621
DTSTAMP:20230713T183457Z
URL:https://drtv.de/events/landesliga-turnier-700kg-in-zell/
SUMMARY:ABGESAGT - Landesliga-Turnier (700kg) in Zell
DESCRIPTION:Ausschreibung und Infos folgen.
CATEGORIES:Termin Tauziehen
LOCATION:Zell\, Wiesenweg\, Bad Grönenbach – Zell\, Bayern\, 87730\, Deu
 tschland
GEO:47.90072;10.204889999999977
X-APPLE-STRUCTURED-LOCATION;VALUE=URI;X-ADDRESS=Wiesenweg\, Bad Grönenbach
  – Zell\, Bayern\, 87730\, Deutschland;X-APPLE-RADIUS=100;X-TITLE=Zell:g
 eo:47.90072,10.204889999999977
END:VEVENT
BEGIN:VTIMEZONE
TZID:Europe/Berlin
X-LIC-LOCATION:Europe/Berlin
BEGIN:DAYLIGHT
DTSTART:20200329T030000
TZOFFSETFROM:+0100
TZOFFSETTO:+0200
TZNAME:CEST
END:DAYLIGHT
END:VTIMEZONE
END:VCALENDAR