BEGIN:VCALENDAR
VERSION:2.0
PRODID:-//wp-events-plugin.com//7.2.3.1//EN
TZID:Europe/Berlin
X-WR-TIMEZONE:Europe/Berlin
BEGIN:VEVENT
UID:1462@drtv.de
DTSTART;TZID=Europe/Berlin;VALUE=DATE:20210926
DTEND;TZID=Europe/Berlin;VALUE=DATE:20210927
DTSTAMP:20230713T183350Z
URL:https://drtv.de/events/landesliga-wuerttemberg-bayern-finale/
SUMMARY:Landesliga Württemberg in Pfahlbronn (M 700\, Mixed\, MU23)
DESCRIPTION:Informationen und Ausschreibung folgen.\n\nGewichtsklasse/n: 70
 0 Männer\, Mixed und MU 23\n\nWiegen: 10.30-11.30 Uhr\n\nWettkampfbeginn:
  13.00  Uhr
CATEGORIES:Termin Tauziehen
LOCATION:Pfahlbronn\, Schulstraße 21\, Pfahlbronn\, 73553\, Deutschland
GEO:48.84168;9.683620000000019
X-APPLE-STRUCTURED-LOCATION;VALUE=URI;X-ADDRESS=Schulstraße 21\, Pfahlbron
 n\, 73553\, Deutschland;X-APPLE-RADIUS=100;X-TITLE=Pfahlbronn:geo:48.84168
 ,9.683620000000019
END:VEVENT
BEGIN:VTIMEZONE
TZID:Europe/Berlin
X-LIC-LOCATION:Europe/Berlin
BEGIN:DAYLIGHT
DTSTART:20210328T030000
TZOFFSETFROM:+0100
TZOFFSETTO:+0200
TZNAME:CEST
END:DAYLIGHT
END:VTIMEZONE
END:VCALENDAR