BEGIN:VCALENDAR
VERSION:2.0
PRODID:-//wp-events-plugin.com//7.2.3.1//EN
TZID:Europe/Berlin
X-WR-TIMEZONE:Europe/Berlin
BEGIN:VEVENT
UID:707@drtv.de
DTSTART;TZID=Europe/Berlin;VALUE=DATE:20160529
DTEND;TZID=Europe/Berlin;VALUE=DATE:20160530
DTSTAMP:20230713T183850Z
URL:https://drtv.de/events/landesliga-wuerttembergbayern-frauen-%e2%89%a4-
 410kg-6-zieherinnen-2-wettkampftag/
SUMMARY:Landesliga Württemberg/Bayern Frauen ≤ 410kg (6 Zieherinnen) - 2
 . Wettkampftag
DESCRIPTION:Ausrichter:\n\nVerband:     WRTV\n\nVerein:        
  TZC Korb\n\nOrt:             74219 Möckmühl – Korb\; Herg
 stbachtalarena\n\n[prettyfilelink size="" src="https://www.drtv.de/wp-cont
 ent/uploads/2015/12/WRTV_2016_LL2_F410kg_2WK_Korb_Ergebnisdienst-BFA-T.pdf
 " type="pdf"]WRTV_2016_LL2_F410kg_2WK_Korb_Ergebnisdienst-BFA-T[/prettyfil
 elink]\n\n&nbsp\;\n\n&nbsp\;
CATEGORIES:Ergebnis Tauziehen,Termin Tauziehen
LOCATION:Möckmühl\, Raiffeisenweg\, Möckmühl\, 74219\, Deutschland
GEO:49.3568495;9.398622899999964
X-APPLE-STRUCTURED-LOCATION;VALUE=URI;X-ADDRESS=Raiffeisenweg\, Möckmühl\
 , 74219\, Deutschland;X-APPLE-RADIUS=100;X-TITLE=Möckmühl:geo:49.3568495
 ,9.398622899999964
END:VEVENT
BEGIN:VTIMEZONE
TZID:Europe/Berlin
X-LIC-LOCATION:Europe/Berlin
BEGIN:DAYLIGHT
DTSTART:20160327T030000
TZOFFSETFROM:+0100
TZOFFSETTO:+0200
TZNAME:CEST
END:DAYLIGHT
END:VTIMEZONE
END:VCALENDAR