BEGIN:VCALENDAR
VERSION:2.0
PRODID:-//wp-events-plugin.com//7.2.3.1//EN
TZID:Europe/Berlin
X-WR-TIMEZONE:Europe/Berlin
BEGIN:VEVENT
UID:663@drtv.de
DTSTART;TZID=Europe/Berlin:20151017T100000
DTEND;TZID=Europe/Berlin:20151017T100000
DTSTAMP:20230713T183915Z
URL:https://drtv.de/events/landesoffene-suedbayerischen-meisterschaften-un
 d-offene-vereinsmeisterschaften/
SUMMARY:Landesoffene Südbayerischen MS und offene Vereins-MS\, Verschoben!
 !!!!
DESCRIPTION:„Südbayerische Meisterschaft wird witterungsbedingt auf vora
 ussichtlich nächstes Jahr im April verschoben.“\n\n[prettyfilelink size
 ="" src="https://www.drtv.de/wp-content/uploads/2015/09/Ausschreibung-Süd
 -Bay-2015.docx" type="doc"]Ausschreibung Süd Bay 2015[/prettyfilelink]
CATEGORIES:Termin Rasenkraftsport
LOCATION:Ladenburg\, Römerstadion\, Ladenburg\, 68526\, Wurfanlage - Röme
 rstadion\, Deutschland
GEO:49.47476;8.606999999999971
X-APPLE-STRUCTURED-LOCATION;VALUE=URI;X-ADDRESS=Römerstadion\, Ladenburg\,
  68526\, Wurfanlage - Römerstadion\, Deutschland;X-APPLE-RADIUS=100;X-TIT
 LE=Ladenburg:geo:49.47476,8.606999999999971
END:VEVENT
BEGIN:VTIMEZONE
TZID:Europe/Berlin
X-LIC-LOCATION:Europe/Berlin
BEGIN:DAYLIGHT
DTSTART:20150329T030000
TZOFFSETFROM:+0100
TZOFFSETTO:+0200
TZNAME:CEST
END:DAYLIGHT
END:VTIMEZONE
END:VCALENDAR