BEGIN:VCALENDAR
VERSION:2.0
PRODID:-//wp-events-plugin.com//7.2.3.1//EN
TZID:Europe/Berlin
X-WR-TIMEZONE:Europe/Berlin
BEGIN:VEVENT
UID:48@drtv.de
DTSTART;TZID=Europe/Berlin;VALUE=DATE:20120513
DTEND;TZID=Europe/Berlin;VALUE=DATE:20120514
DTSTAMP:20230713T184243Z
URL:https://drtv.de/events/ll-wurtt-bayern/
SUMMARY:LL Württ./Bayern
DESCRIPTION:[prettyfilelink src="https://www.drtv.de/wp-content/uploads/201
 2/04/WRTV_LL_2012_1WK.pdf" type="pdf"]Ergebnisse Landesliga 1. WK[/prettyf
 ilelink]
CATEGORIES:Ergebnis Tauziehen,Termin Tauziehen
LOCATION:Alfdorf/Pfahlbronn\, Haubenwasen 5\, Alfdorf\, Württemberg\, 7355
 3\, Deutschland
GEO:48.8440326;9.674026200000071
X-APPLE-STRUCTURED-LOCATION;VALUE=URI;X-ADDRESS=Haubenwasen 5\, Alfdorf\, W
 ürttemberg\, 73553\, Deutschland;X-APPLE-RADIUS=100;X-TITLE=Alfdorf/Pfahl
 bronn:geo:48.8440326,9.674026200000071
END:VEVENT
BEGIN:VTIMEZONE
TZID:Europe/Berlin
X-LIC-LOCATION:Europe/Berlin
BEGIN:DAYLIGHT
DTSTART:20120325T030000
TZOFFSETFROM:+0100
TZOFFSETTO:+0200
TZNAME:CEST
END:DAYLIGHT
END:VTIMEZONE
END:VCALENDAR