BEGIN:VCALENDAR
VERSION:2.0
PRODID:-//wp-events-plugin.com//7.2.3.1//EN
TZID:Europe/Berlin
X-WR-TIMEZONE:Europe/Berlin
BEGIN:VEVENT
UID:50@drtv.de
DTSTART;TZID=Europe/Berlin;VALUE=DATE:20120520
DTEND;TZID=Europe/Berlin;VALUE=DATE:20120521
DTSTAMP:20230713T184245Z
URL:https://drtv.de/events/ll-wurttbayern/
SUMMARY:Landesliga Württ/Bayern 2. WK
DESCRIPTION:[prettyfilelink src="https://www.drtv.de/wp-content/uploads/201
 2/04/WRTV_LL_2012_2WK_720kg1.pdf" type="pdf"]Ergebnisse[/prettyfilelink][p
 rettyfilelink src="https://www.drtv.de/wp-content/uploads/2012/04/2WK-720k
 g-Turnierliste-Affalterried.pdf" type="pdf"]Turnierliste[/prettyfilelink]
CATEGORIES:Ergebnis Tauziehen,Termin Tauziehen
LOCATION:Aalen-Wasseralfingen/Affalterried\, Onatsbachstrasse 30\, Aalen-Wa
 sseralfingen\, Württemberg\, 73433\, Deutschland
GEO:48.8648732;10.072091199999931
X-APPLE-STRUCTURED-LOCATION;VALUE=URI;X-ADDRESS=Onatsbachstrasse 30\, Aalen
 -Wasseralfingen\, Württemberg\, 73433\, Deutschland;X-APPLE-RADIUS=100;X-
 TITLE=Aalen-Wasseralfingen/Affalterried:geo:48.8648732,10.072091199999931
END:VEVENT
BEGIN:VTIMEZONE
TZID:Europe/Berlin
X-LIC-LOCATION:Europe/Berlin
BEGIN:DAYLIGHT
DTSTART:20120325T030000
TZOFFSETFROM:+0100
TZOFFSETTO:+0200
TZNAME:CEST
END:DAYLIGHT
END:VTIMEZONE
END:VCALENDAR