BEGIN:VCALENDAR
VERSION:2.0
PRODID:-//wp-events-plugin.com//7.2.3.1//EN
TZID:Europe/Berlin
X-WR-TIMEZONE:Europe/Berlin
BEGIN:VEVENT
UID:917@drtv.de
DTSTART;TZID=Europe/Berlin:20170616T000000
DTEND;TZID=Europe/Berlin:20170616T000000
DTSTAMP:20230713T183744Z
URL:https://drtv.de/events/meldeschluss-fuer-rks_bundesliga-2017-vorkaempf
 e/
SUMMARY:Meldeschluß für RKS_Bundesliga-2017-Vorkämpfe
DESCRIPTION:siehe Ausschreibung BL-Endkampf\n\nInfo aus  WKO:\n\nEin Zweit
 startrecht kann nach dem 15.04. für das laufende Jahr nicht mehr beantrag
 t werden.
CATEGORIES:Termin Rasenkraftsport
LOCATION:Fränkisch-Crumbach\, Jahnstrasse 16\, Fränkisch-Crumbach\, 64407
 \, Deutschland
GEO:49.74528;8.86153999999999
X-APPLE-STRUCTURED-LOCATION;VALUE=URI;X-ADDRESS=Jahnstrasse 16\, Fränkisch
 -Crumbach\, 64407\, Deutschland;X-APPLE-RADIUS=100;X-TITLE=Fränkisch-Crum
 bach:geo:49.74528,8.86153999999999
END:VEVENT
BEGIN:VTIMEZONE
TZID:Europe/Berlin
X-LIC-LOCATION:Europe/Berlin
BEGIN:DAYLIGHT
DTSTART:20170326T030000
TZOFFSETFROM:+0100
TZOFFSETTO:+0200
TZNAME:CEST
END:DAYLIGHT
END:VTIMEZONE
END:VCALENDAR