BEGIN:VCALENDAR
VERSION:2.0
PRODID:-//wp-events-plugin.com//7.2.3.1//EN
TZID:Europe/Berlin
X-WR-TIMEZONE:Europe/Berlin
BEGIN:VEVENT
UID:1084@drtv.de
DTSTART;TZID=Europe/Berlin:20180625T000000
DTEND;TZID=Europe/Berlin:20180625T000000
DTSTAMP:20230713T183641Z
URL:https://drtv.de/events/meldeschluss-rks-bundesliga/
SUMMARY:Meldeschluß RKS-Bundesliga
DESCRIPTION:Zwischenstand 24.5.2018:\n\n[prettyfilelink size="" src="https:
 //www.drtv.de/wp-content/uploads/2018/05/BL2018-Zwischenstand-24-05-2018.p
 df" type="pdf"]BL2018-Zwischenstand 24-05-2018[/prettyfilelink]\n\n[pretty
 filelink size="" src="https://www.drtv.de/wp-content/uploads/2018/03/A-A-A
 -Aufruf-zur-RKS-Bundesliga-2018-1.pdf" type="pdf"]A A A Aufruf zur RKS-Bun
 desliga 2018-1[/prettyfilelink]\n\n[prettyfilelink size="" src="https://ww
 w.drtv.de/wp-content/uploads/2018/03/A-A-A-Buli-Rangliste-2018-Automatisch
 -gespeichert.pdf" type="pdf"]A A A Buli Rangliste 2018 (Automatisch gespei
 chert)[/prettyfilelink]
CATEGORIES:Termin Rasenkraftsport
END:VEVENT
BEGIN:VTIMEZONE
TZID:Europe/Berlin
X-LIC-LOCATION:Europe/Berlin
BEGIN:DAYLIGHT
DTSTART:20180325T030000
TZOFFSETFROM:+0100
TZOFFSETTO:+0200
TZNAME:CEST
END:DAYLIGHT
END:VTIMEZONE
END:VCALENDAR